BEGIN:VCALENDAR
VERSION:2.0
PRODID:-//JoinUs Gruppentreffen - ECPv6.15.20//NONSGML v1.0//EN
CALSCALE:GREGORIAN
METHOD:PUBLISH
X-WR-CALNAME:JoinUs Gruppentreffen
X-ORIGINAL-URL:https://cms.joinusgruppentreffen.eu
X-WR-CALDESC:Veranstaltungen für JoinUs Gruppentreffen
REFRESH-INTERVAL;VALUE=DURATION:PT1H
X-Robots-Tag:noindex
X-PUBLISHED-TTL:PT1H
BEGIN:VTIMEZONE
TZID:Europe/Paris
BEGIN:DAYLIGHT
TZOFFSETFROM:+0100
TZOFFSETTO:+0200
TZNAME:CEST
DTSTART:20240331T010000
END:DAYLIGHT
BEGIN:STANDARD
TZOFFSETFROM:+0200
TZOFFSETTO:+0100
TZNAME:CET
DTSTART:20241027T010000
END:STANDARD
BEGIN:DAYLIGHT
TZOFFSETFROM:+0100
TZOFFSETTO:+0200
TZNAME:CEST
DTSTART:20250330T010000
END:DAYLIGHT
BEGIN:STANDARD
TZOFFSETFROM:+0200
TZOFFSETTO:+0100
TZNAME:CET
DTSTART:20251026T010000
END:STANDARD
BEGIN:DAYLIGHT
TZOFFSETFROM:+0100
TZOFFSETTO:+0200
TZNAME:CEST
DTSTART:20260329T010000
END:DAYLIGHT
BEGIN:STANDARD
TZOFFSETFROM:+0200
TZOFFSETTO:+0100
TZNAME:CET
DTSTART:20261025T010000
END:STANDARD
END:VTIMEZONE
BEGIN:VEVENT
DTSTART;TZID=Europe/Paris:20251012T100000
DTEND;TZID=Europe/Paris:20251012T133000
DTSTAMP:20260420T033510
CREATED:20250925T095942Z
LAST-MODIFIED:20250925T095942Z
UID:10149-1760263200-1760275800@cms.joinusgruppentreffen.eu
SUMMARY:Frühstück in Pfaffenhofen
DESCRIPTION:Einfach dazukommen und mit ein bisschen Glück neue Freunde finden
URL:https://cms.joinusgruppentreffen.eu/event/fruehstueck-in-pfaffenhofen-13/
LOCATION:Café Resa\, Scheyerer Str. 24\, Pfaffenhofen\, 85276
CATEGORIES:Essen
ATTACH;FMTTYPE=image/jpeg:https://cms.joinusgruppentreffen.eu/wp-content/uploads/2024/03/Fruehstueck-1-scaled.jpg
ORGANIZER;CN="Bettina Bergmann":MAILTO:bettina@joinusgruppentreffen.eu
END:VEVENT
BEGIN:VEVENT
DTSTART;TZID=Europe/Paris:20251012T160000
DTEND;TZID=Europe/Paris:20251012T213000
DTSTAMP:20260420T033511
CREATED:20251009T114625Z
LAST-MODIFIED:20251009T114658Z
UID:10186-1760284800-1760304600@cms.joinusgruppentreffen.eu
SUMMARY:Tango-Konzert in Freising
DESCRIPTION:Tanz mit uns zur Musik\, oder komm einfach so vorbei. \n 
URL:https://cms.joinusgruppentreffen.eu/event/tango-konzert-in-freising/
LOCATION:Lindenkeller\, Veitsmüllerweg 2\, Freising\, 85354
CATEGORIES:Party's,Tanz
ATTACH;FMTTYPE=image/jpeg:https://cms.joinusgruppentreffen.eu/wp-content/uploads/2025/10/Tango-Konzert.jpg
ORGANIZER;CN="Bettina Bergmann":MAILTO:bettina@joinusgruppentreffen.eu
END:VEVENT
END:VCALENDAR