BEGIN:VCALENDAR
VERSION:2.0
PRODID:-//JoinUs Gruppentreffen - ECPv6.15.20//NONSGML v1.0//EN
CALSCALE:GREGORIAN
METHOD:PUBLISH
X-ORIGINAL-URL:https://cms.joinusgruppentreffen.eu
X-WR-CALDESC:Veranstaltungen für JoinUs Gruppentreffen
REFRESH-INTERVAL;VALUE=DURATION:PT1H
X-Robots-Tag:noindex
X-PUBLISHED-TTL:PT1H
BEGIN:VTIMEZONE
TZID:Europe/Paris
BEGIN:DAYLIGHT
TZOFFSETFROM:+0100
TZOFFSETTO:+0200
TZNAME:CEST
DTSTART:20240331T010000
END:DAYLIGHT
BEGIN:STANDARD
TZOFFSETFROM:+0200
TZOFFSETTO:+0100
TZNAME:CET
DTSTART:20241027T010000
END:STANDARD
BEGIN:DAYLIGHT
TZOFFSETFROM:+0100
TZOFFSETTO:+0200
TZNAME:CEST
DTSTART:20250330T010000
END:DAYLIGHT
BEGIN:STANDARD
TZOFFSETFROM:+0200
TZOFFSETTO:+0100
TZNAME:CET
DTSTART:20251026T010000
END:STANDARD
BEGIN:DAYLIGHT
TZOFFSETFROM:+0100
TZOFFSETTO:+0200
TZNAME:CEST
DTSTART:20260329T010000
END:DAYLIGHT
BEGIN:STANDARD
TZOFFSETFROM:+0200
TZOFFSETTO:+0100
TZNAME:CET
DTSTART:20261025T010000
END:STANDARD
END:VTIMEZONE
BEGIN:VEVENT
DTSTART;TZID=Europe/Paris:20251215T080000
DTEND;TZID=Europe/Paris:20251215T170000
DTSTAMP:20260420T011120
CREATED:20251215T115749Z
LAST-MODIFIED:20251215T120704Z
UID:10421-1765785600-1765818000@cms.joinusgruppentreffen.eu
SUMMARY:Test Event für Push Notifications"
DESCRIPTION:
URL:https://cms.joinusgruppentreffen.eu/event/test-event-fuer-push-notifications/
END:VEVENT
BEGIN:VEVENT
DTSTART;TZID=Europe/Paris:20251215T080000
DTEND;TZID=Europe/Paris:20251215T170000
DTSTAMP:20260420T011120
CREATED:20251215T121528Z
LAST-MODIFIED:20251215T121528Z
UID:10423-1765785600-1765818000@cms.joinusgruppentreffen.eu
SUMMARY:Test Event für Push Notifications"2
DESCRIPTION:
URL:https://cms.joinusgruppentreffen.eu/event/test-event-fuer-push-notifications2/
END:VEVENT
BEGIN:VEVENT
DTSTART;TZID=Europe/Paris:20251215T080000
DTEND;TZID=Europe/Paris:20251215T170000
DTSTAMP:20260420T011120
CREATED:20251215T122427Z
LAST-MODIFIED:20251215T122427Z
UID:10425-1765785600-1765818000@cms.joinusgruppentreffen.eu
SUMMARY:Push Test Event
DESCRIPTION:
URL:https://cms.joinusgruppentreffen.eu/event/push-test-event/
END:VEVENT
END:VCALENDAR