BEGIN:VCALENDAR
VERSION:2.0
PRODID:-//JoinUs Gruppentreffen - ECPv6.15.20//NONSGML v1.0//EN
CALSCALE:GREGORIAN
METHOD:PUBLISH
X-ORIGINAL-URL:https://cms.joinusgruppentreffen.eu
X-WR-CALDESC:Veranstaltungen für JoinUs Gruppentreffen
REFRESH-INTERVAL;VALUE=DURATION:PT1H
X-Robots-Tag:noindex
X-PUBLISHED-TTL:PT1H
BEGIN:VTIMEZONE
TZID:Europe/Paris
BEGIN:DAYLIGHT
TZOFFSETFROM:+0100
TZOFFSETTO:+0200
TZNAME:CEST
DTSTART:20250330T010000
END:DAYLIGHT
BEGIN:STANDARD
TZOFFSETFROM:+0200
TZOFFSETTO:+0100
TZNAME:CET
DTSTART:20251026T010000
END:STANDARD
BEGIN:DAYLIGHT
TZOFFSETFROM:+0100
TZOFFSETTO:+0200
TZNAME:CEST
DTSTART:20260329T010000
END:DAYLIGHT
BEGIN:STANDARD
TZOFFSETFROM:+0200
TZOFFSETTO:+0100
TZNAME:CET
DTSTART:20261025T010000
END:STANDARD
BEGIN:DAYLIGHT
TZOFFSETFROM:+0100
TZOFFSETTO:+0200
TZNAME:CEST
DTSTART:20270328T010000
END:DAYLIGHT
BEGIN:STANDARD
TZOFFSETFROM:+0200
TZOFFSETTO:+0100
TZNAME:CET
DTSTART:20271031T010000
END:STANDARD
END:VTIMEZONE
BEGIN:VEVENT
DTSTART;TZID=Europe/Paris:20260218T183000
DTEND;TZID=Europe/Paris:20260218T220000
DTSTAMP:20260419T222315
CREATED:20260203T083942Z
LAST-MODIFIED:20260203T084711Z
UID:10626-1771439400-1771452000@cms.joinusgruppentreffen.eu
SUMMARY:Tapas essen in Aichach
DESCRIPTION:Wir treffen uns am Mittwoch\, 18.02 gemütlich im Bodega Tio Pepe – einem spanischen Tapas-Restaurant mit cooler Atmosphäre und leckerem Essen 🍷🇪🇸. Dort wollen wir einen entspannten Abend verbringen\, gemeinsam essen und vor allem neue Leute kennenlernen. \nDu bist herzlich eingeladen\, einfach vorbeizukommen\, dich dazuzusetzen und mit anderen ins Gespräch zu kommen. Egal\, ob du neu in der Gegend bist\, Leute suchst mit ähnlichen Interessen oder einfach Lust auf gute Gesellschaft hast – hier ist der perfekte Rahmen dafür. Bei Tapas\, Wein oder was Kaltem lässt sich’s einfach besser plaudern\, lachen und Kontakte knüpfen. \nDas Treffen soll eine lockere Runde werden – kein Programm\, keine Verpflichtungen\, nur nette Gespräche\, gute Stimmung und vielleicht ein paar neue Bekanntschaften. Bring gern auch Freund:innen mit\, je mehr desto besser. 💬✨ \nWir freuen uns auf einen tollen Abend\, neue Gesichter und viele interessante Gespräche. 👉 Also: Termin merken\, guten Appetit mitbringen und einfach dabei sein!\nZusagen bitte bis spätestens Freitag\, 13.02
URL:https://cms.joinusgruppentreffen.eu/event/tapas-essen-in-aichach/
LOCATION:Tio Pepe\, Stadtpl. 28\, Aichach\, 86551
CATEGORIES:Essen
ATTACH;FMTTYPE=image/jpeg:https://cms.joinusgruppentreffen.eu/wp-content/uploads/2026/02/Tapas.jpg
ORGANIZER;CN="Bettina Bergmann":MAILTO:bettina@joinusgruppentreffen.eu
END:VEVENT
END:VCALENDAR