BEGIN:VCALENDAR
VERSION:2.0
PRODID:-//JoinUs Gruppentreffen - ECPv6.15.20//NONSGML v1.0//EN
CALSCALE:GREGORIAN
METHOD:PUBLISH
X-WR-CALNAME:JoinUs Gruppentreffen
X-ORIGINAL-URL:https://cms.joinusgruppentreffen.eu
X-WR-CALDESC:Veranstaltungen für JoinUs Gruppentreffen
REFRESH-INTERVAL;VALUE=DURATION:PT1H
X-Robots-Tag:noindex
X-PUBLISHED-TTL:PT1H
BEGIN:VTIMEZONE
TZID:Europe/Paris
BEGIN:DAYLIGHT
TZOFFSETFROM:+0100
TZOFFSETTO:+0200
TZNAME:CEST
DTSTART:20250330T010000
END:DAYLIGHT
BEGIN:STANDARD
TZOFFSETFROM:+0200
TZOFFSETTO:+0100
TZNAME:CET
DTSTART:20251026T010000
END:STANDARD
BEGIN:DAYLIGHT
TZOFFSETFROM:+0100
TZOFFSETTO:+0200
TZNAME:CEST
DTSTART:20260329T010000
END:DAYLIGHT
BEGIN:STANDARD
TZOFFSETFROM:+0200
TZOFFSETTO:+0100
TZNAME:CET
DTSTART:20261025T010000
END:STANDARD
BEGIN:DAYLIGHT
TZOFFSETFROM:+0100
TZOFFSETTO:+0200
TZNAME:CEST
DTSTART:20270328T010000
END:DAYLIGHT
BEGIN:STANDARD
TZOFFSETFROM:+0200
TZOFFSETTO:+0100
TZNAME:CET
DTSTART:20271031T010000
END:STANDARD
END:VTIMEZONE
BEGIN:VEVENT
DTSTART;TZID=Europe/Paris:20260308T130000
DTEND;TZID=Europe/Paris:20260308T170000
DTSTAMP:20260419T221400
CREATED:20260128T094636Z
LAST-MODIFIED:20260206T133055Z
UID:10603-1772974800-1772989200@cms.joinusgruppentreffen.eu
SUMMARY:1. JoinUs Schafkopfturnier
DESCRIPTION:Gespielt wird mit der langen Karte (Solo\, Wenz\, Farbwenz und Rufspiel)\nEs werden 2 x 32 Spiele gespielt.  \nAnmeldegebühr: 15€ \nzu gewinnen gibt’s:  \n1. Preis 100€\n2. Preis 50€\n3. Preis 25€ \n(Die Preise sind ab einer Teilnehmerzahl von 30 Personen garantiert) \nGetränke und kleine Snacks sind vor Ort erhältlich
URL:https://cms.joinusgruppentreffen.eu/event/1-joinus-schafkopfturnier/
LOCATION:Hofbergsaal\, Hofberg 7\, Pfaffenhofen\, 85276
ATTACH;FMTTYPE=image/jpeg:https://cms.joinusgruppentreffen.eu/wp-content/uploads/2026/01/schafkopf-1.jpg
ORGANIZER;CN="Bettina Bergmann":MAILTO:bettina@joinusgruppentreffen.eu
END:VEVENT
END:VCALENDAR