BEGIN:VCALENDAR
VERSION:2.0
PRODID:-//JoinUs Gruppentreffen - ECPv6.15.20//NONSGML v1.0//EN
CALSCALE:GREGORIAN
METHOD:PUBLISH
X-ORIGINAL-URL:https://cms.joinusgruppentreffen.eu
X-WR-CALDESC:Veranstaltungen für JoinUs Gruppentreffen
REFRESH-INTERVAL;VALUE=DURATION:PT1H
X-Robots-Tag:noindex
X-PUBLISHED-TTL:PT1H
BEGIN:VTIMEZONE
TZID:Europe/Paris
BEGIN:DAYLIGHT
TZOFFSETFROM:+0100
TZOFFSETTO:+0200
TZNAME:CEST
DTSTART:20250330T010000
END:DAYLIGHT
BEGIN:STANDARD
TZOFFSETFROM:+0200
TZOFFSETTO:+0100
TZNAME:CET
DTSTART:20251026T010000
END:STANDARD
BEGIN:DAYLIGHT
TZOFFSETFROM:+0100
TZOFFSETTO:+0200
TZNAME:CEST
DTSTART:20260329T010000
END:DAYLIGHT
BEGIN:STANDARD
TZOFFSETFROM:+0200
TZOFFSETTO:+0100
TZNAME:CET
DTSTART:20261025T010000
END:STANDARD
BEGIN:DAYLIGHT
TZOFFSETFROM:+0100
TZOFFSETTO:+0200
TZNAME:CEST
DTSTART:20270328T010000
END:DAYLIGHT
BEGIN:STANDARD
TZOFFSETFROM:+0200
TZOFFSETTO:+0100
TZNAME:CET
DTSTART:20271031T010000
END:STANDARD
END:VTIMEZONE
BEGIN:VEVENT
DTSTART;TZID=Europe/Paris:20260426T110000
DTEND;TZID=Europe/Paris:20260426T123000
DTSTAMP:20260419T190013
CREATED:20260403T160625Z
LAST-MODIFIED:20260413T181334Z
UID:10820-1777201200-1777206600@cms.joinusgruppentreffen.eu
SUMMARY:Frühstück in Freising
DESCRIPTION:Zu einem guten Start in den Tag gehört ein gutes Frühstück (am besten in guter Gesellschaft) \nBitte bis 22.04 anmelden.
URL:https://cms.joinusgruppentreffen.eu/event/fruehstueck-in-freising-13/
LOCATION:Orangerie Freising\, Am Staudengarten 11\, Freising\, 85354
CATEGORIES:Essen
ATTACH;FMTTYPE=image/jpeg:https://cms.joinusgruppentreffen.eu/wp-content/uploads/2024/10/Fruehstuecksbuffet.jpg
ORGANIZER;CN="Bettina Bergmann":MAILTO:bettina@joinusgruppentreffen.eu
END:VEVENT
BEGIN:VEVENT
DTSTART;TZID=Europe/Paris:20260426T140000
DTEND;TZID=Europe/Paris:20260426T170000
DTSTAMP:20260419T190013
CREATED:20260411T155946Z
LAST-MODIFIED:20260411T155946Z
UID:10845-1777212000-1777222800@cms.joinusgruppentreffen.eu
SUMMARY:Eis essen in Freising
DESCRIPTION:Lust mitzukommen?
URL:https://cms.joinusgruppentreffen.eu/event/eis-essen-in-freising/
LOCATION:Eiscafé Da Sandro\, General-von-Nagel-Straße 4\, Freising\, 85354
CATEGORIES:Essen,Outdoor
ATTACH;FMTTYPE=image/jpeg:https://cms.joinusgruppentreffen.eu/wp-content/uploads/2024/04/Eiscreme-scaled.jpg
ORGANIZER;CN="Bettina Bergmann":MAILTO:bettina@joinusgruppentreffen.eu
END:VEVENT
END:VCALENDAR