BEGIN:VCALENDAR
VERSION:2.0
PRODID:-//JoinUs Gruppentreffen - ECPv6.15.20//NONSGML v1.0//EN
CALSCALE:GREGORIAN
METHOD:PUBLISH
X-WR-CALNAME:JoinUs Gruppentreffen
X-ORIGINAL-URL:https://cms.joinusgruppentreffen.eu
X-WR-CALDESC:Veranstaltungen für JoinUs Gruppentreffen
REFRESH-INTERVAL;VALUE=DURATION:PT1H
X-Robots-Tag:noindex
X-PUBLISHED-TTL:PT1H
BEGIN:VTIMEZONE
TZID:Europe/Paris
BEGIN:DAYLIGHT
TZOFFSETFROM:+0100
TZOFFSETTO:+0200
TZNAME:CEST
DTSTART:20250330T010000
END:DAYLIGHT
BEGIN:STANDARD
TZOFFSETFROM:+0200
TZOFFSETTO:+0100
TZNAME:CET
DTSTART:20251026T010000
END:STANDARD
BEGIN:DAYLIGHT
TZOFFSETFROM:+0100
TZOFFSETTO:+0200
TZNAME:CEST
DTSTART:20260329T010000
END:DAYLIGHT
BEGIN:STANDARD
TZOFFSETFROM:+0200
TZOFFSETTO:+0100
TZNAME:CET
DTSTART:20261025T010000
END:STANDARD
BEGIN:DAYLIGHT
TZOFFSETFROM:+0100
TZOFFSETTO:+0200
TZNAME:CEST
DTSTART:20270328T010000
END:DAYLIGHT
BEGIN:STANDARD
TZOFFSETFROM:+0200
TZOFFSETTO:+0100
TZNAME:CET
DTSTART:20271031T010000
END:STANDARD
END:VTIMEZONE
BEGIN:VEVENT
DTSTART;TZID=Europe/Paris:20260502T150000
DTEND;TZID=Europe/Paris:20260502T180000
DTSTAMP:20260419T203556
CREATED:20260419T095515Z
LAST-MODIFIED:20260419T181258Z
UID:10863-1777734000-1777744800@cms.joinusgruppentreffen.eu
SUMMARY:Streetfood-Festival in Neufahrn bei Freising
DESCRIPTION:EINTRITT FREI ❤ EINTRITT FREI ❤\n🥗🥘🍱🍛🍲🍜🍝🍡🍧🍨🥃🍷🥂🍻🍔🌭\nProbiert euch durch die Küchen der Welt! Der Schlemmerfest Street Food Markt macht wieder vom 01. Mai bis 03. Mai 2026 halt in #NEUFAHRN bei Freising auf dem dem #VOLKSFESTPLATZ ❤ \n► Location/Parkmöglichkeiten:\n▪Parkplätze gibt es direkt neben dem Volksfestplatz (kostenfrei)\n🥗🥘🍱🍛🍲🍜🍝🍡🍧🍨🥃🍷🥂🍻🍔🌭\n▶️ HINWEISE:\n– Aus Sicherheitsgründen dürfen große Rucksäcke die größer als DIN A4 sind nicht mitgenommen werden.\n– Hunde sind erlaubt\, wenn sie an einer Leine geführt werden.\n– Bitte bringt keine eigenen Speisen und Getränke mit zum Street-Food-Markt.
URL:https://cms.joinusgruppentreffen.eu/event/streetfood-festival-in-neufahrn-bei-freising/
LOCATION:Volksfestplatz Neufahrn\, Kurt-Kittel-Ring\, Neufahrn bei Freising\, 85375
CATEGORIES:Essen,Outdoor
ATTACH;FMTTYPE=image/jpeg:https://cms.joinusgruppentreffen.eu/wp-content/uploads/2026/04/Streetfood-Festival-Neufahrn.jpg
ORGANIZER;CN="Bettina Bergmann":MAILTO:bettina@joinusgruppentreffen.eu
END:VEVENT
END:VCALENDAR