BEGIN:VCALENDAR
VERSION:2.0
PRODID:-//JoinUs Gruppentreffen - ECPv6.15.20//NONSGML v1.0//EN
CALSCALE:GREGORIAN
METHOD:PUBLISH
X-ORIGINAL-URL:https://cms.joinusgruppentreffen.eu
X-WR-CALDESC:Veranstaltungen für JoinUs Gruppentreffen
REFRESH-INTERVAL;VALUE=DURATION:PT1H
X-Robots-Tag:noindex
X-PUBLISHED-TTL:PT1H
BEGIN:VTIMEZONE
TZID:Europe/Paris
BEGIN:DAYLIGHT
TZOFFSETFROM:+0100
TZOFFSETTO:+0200
TZNAME:CEST
DTSTART:20250330T010000
END:DAYLIGHT
BEGIN:STANDARD
TZOFFSETFROM:+0200
TZOFFSETTO:+0100
TZNAME:CET
DTSTART:20251026T010000
END:STANDARD
BEGIN:DAYLIGHT
TZOFFSETFROM:+0100
TZOFFSETTO:+0200
TZNAME:CEST
DTSTART:20260329T010000
END:DAYLIGHT
BEGIN:STANDARD
TZOFFSETFROM:+0200
TZOFFSETTO:+0100
TZNAME:CET
DTSTART:20261025T010000
END:STANDARD
BEGIN:DAYLIGHT
TZOFFSETFROM:+0100
TZOFFSETTO:+0200
TZNAME:CEST
DTSTART:20270328T010000
END:DAYLIGHT
BEGIN:STANDARD
TZOFFSETFROM:+0200
TZOFFSETTO:+0100
TZNAME:CET
DTSTART:20271031T010000
END:STANDARD
END:VTIMEZONE
BEGIN:VEVENT
DTSTART;TZID=Europe/Paris:20260517T100000
DTEND;TZID=Europe/Paris:20260517T170000
DTSTAMP:20260419T203725
CREATED:20260312T204829Z
LAST-MODIFIED:20260322T155933Z
UID:10723-1779012000-1779037200@cms.joinusgruppentreffen.eu
SUMMARY:Ausflug zum Tegernsee
DESCRIPTION:Für den Ausflug gibt es eine extra WhatsApp Gruppe https://chat.whatsapp.com/Eg00CD8PTsJ3LpSTop9JC8?mode=gi_t \nWir fahren mit mehreen Fahrgemeinschaften\nTreffpunkte in Freising/Pfaffenhofen/Schrobenhausen \nAuf dem Plan steht:\n10 Uhr Anreise mit Fahrgemeinschaften\netwa 12 Uhr Ankunft am Tegernsee\, kleine Stärkung im Biergarten\n14 Uhr kleine Wanderung am See\n16 Uhr Spiele (Frisbee\, Volleyball\, Wurfspiele) im Gras\, kleines Picknick zue Stärkung\n18 Uhr Abfahrt\n20 Uhr Ankunft in Freising/Pfaffenhofen/Schrobenhausen \nUnkostenpauschale 10 € pro Person für den ganzen Tag (Fahrt\, Picknick\, ausgenommen Biergarten)\nFür Premiummitglieder nur 5€ \nbei schlechtem Wetter wird der Ausflug verschoben
URL:https://cms.joinusgruppentreffen.eu/event/ausflug-zum-tegernsee/
LOCATION:Tegernsee
CATEGORIES:Outdoor,Tagesausflüge
ATTACH;FMTTYPE=image/jpeg:https://cms.joinusgruppentreffen.eu/wp-content/uploads/2026/03/Tegernsee.jpg
END:VEVENT
END:VCALENDAR