BEGIN:VCALENDAR
VERSION:2.0
PRODID:-//JoinUs Gruppentreffen - ECPv6.15.20//NONSGML v1.0//EN
CALSCALE:GREGORIAN
METHOD:PUBLISH
X-WR-CALNAME:JoinUs Gruppentreffen
X-ORIGINAL-URL:https://cms.joinusgruppentreffen.eu
X-WR-CALDESC:Veranstaltungen für JoinUs Gruppentreffen
REFRESH-INTERVAL;VALUE=DURATION:PT1H
X-Robots-Tag:noindex
X-PUBLISHED-TTL:PT1H
BEGIN:VTIMEZONE
TZID:UTC
BEGIN:STANDARD
TZOFFSETFROM:+0000
TZOFFSETTO:+0000
TZNAME:UTC
DTSTART:20230101T000000
END:STANDARD
END:VTIMEZONE
BEGIN:VTIMEZONE
TZID:Europe/Paris
BEGIN:DAYLIGHT
TZOFFSETFROM:+0100
TZOFFSETTO:+0200
TZNAME:CEST
DTSTART:20230326T010000
END:DAYLIGHT
BEGIN:STANDARD
TZOFFSETFROM:+0200
TZOFFSETTO:+0100
TZNAME:CET
DTSTART:20231029T010000
END:STANDARD
BEGIN:DAYLIGHT
TZOFFSETFROM:+0100
TZOFFSETTO:+0200
TZNAME:CEST
DTSTART:20240331T010000
END:DAYLIGHT
BEGIN:STANDARD
TZOFFSETFROM:+0200
TZOFFSETTO:+0100
TZNAME:CET
DTSTART:20241027T010000
END:STANDARD
BEGIN:DAYLIGHT
TZOFFSETFROM:+0100
TZOFFSETTO:+0200
TZNAME:CEST
DTSTART:20250330T010000
END:DAYLIGHT
BEGIN:STANDARD
TZOFFSETFROM:+0200
TZOFFSETTO:+0100
TZNAME:CET
DTSTART:20251026T010000
END:STANDARD
END:VTIMEZONE
BEGIN:VEVENT
DTSTART;TZID=UTC:20240301T180000
DTEND;TZID=UTC:20240301T200000
DTSTAMP:20260423T032333
CREATED:20240215T163953Z
LAST-MODIFIED:20240301T135206Z
UID:2829-1709316000-1709323200@cms.joinusgruppentreffen.eu
SUMMARY:Bowling in Pfaffenhofen
DESCRIPTION:Immer wieder ein riesen Spaß 😀
URL:https://cms.joinusgruppentreffen.eu/event/bowling-in-pfaffenhofen/
LOCATION:Hollywood Super Bowling Pfaffenhofen\, Ledererstr. 2\, Pfaffenhofen\, 85276
ATTACH;FMTTYPE=image/jpeg:https://cms.joinusgruppentreffen.eu/wp-content/uploads/2024/02/WhatsApp-Bild-2024-01-29-um-20.00.22_93a272b2.jpg
ORGANIZER;CN="Bettina Bergmann":MAILTO:bettina@joinusgruppentreffen.eu
END:VEVENT
BEGIN:VEVENT
DTSTART;TZID=UTC:20240302T150000
DTEND;TZID=UTC:20240302T190000
DTSTAMP:20260423T032334
CREATED:20240215T141200Z
LAST-MODIFIED:20240301T160028Z
UID:2788-1709391600-1709406000@cms.joinusgruppentreffen.eu
SUMMARY:Kaffee trinken beim Café Franca in München - Schwabing
DESCRIPTION:Hier hat alles angefangen. \nEines meiner ersten Treffen von der App\, mit der ich angefangen habe war hier\, seitdem bin ich öfter hier\, da es hier den besten Kuchen Münchens gibt. \nFranca ist nicht nur eine super Gastronomin\, sondern sie nimmt dich auch mit einer Herzlichkeit auf\, sowas hast du noch nicht gesehen. \nAlso feiert mit mir meine neue Website und setzt euch auf einen Kaffee zu uns! \nBis dann\, Bettina 🙂
URL:https://cms.joinusgruppentreffen.eu/event/einstand-beim-cafe-franca-in-munchen/
LOCATION:Café Franca\, Hiltenspergerstr. 24\, München\, 80798
ORGANIZER;CN="Bettina Bergmann":MAILTO:bettina@joinusgruppentreffen.eu
END:VEVENT
BEGIN:VEVENT
DTSTART;TZID=UTC:20240303T100000
DTEND;TZID=UTC:20240303T140000
DTSTAMP:20260423T032334
CREATED:20240218T095930Z
LAST-MODIFIED:20240224T041544Z
UID:2990-1709460000-1709474400@cms.joinusgruppentreffen.eu
SUMMARY:Frühstück bei Tina's Backträume in Pfaffenhofen
DESCRIPTION:Tina hat mich einfach mit ihrer Herzlichkeit und den leckeren Kuchen überzeugt 🙂 \nDas Preis-Leistungs-Verhältnis stimmt auch. \nSowas unterstütze ich gerne 😀
URL:https://cms.joinusgruppentreffen.eu/event/fruhstuck-bei-tinas-backtraume-in-pfaffenhofen-2/
LOCATION:Tina’s Backträume\, Spitalstr. 1\, Pfaffenhofen\, 85276
CATEGORIES:Essen
ATTACH;FMTTYPE=image/jpeg:https://cms.joinusgruppentreffen.eu/wp-content/uploads/2024/02/WhatsApp-Bild-2024-02-11-um-13.42.01_9f0aeb95.jpg
ORGANIZER;CN="Bettina Bergmann":MAILTO:bettina@joinusgruppentreffen.eu
END:VEVENT
BEGIN:VEVENT
DTSTART;TZID=UTC:20240303T130000
DTEND;TZID=UTC:20240303T160000
DTSTAMP:20260423T032334
CREATED:20240219T143505Z
LAST-MODIFIED:20240302T112527Z
UID:3104-1709470800-1709481600@cms.joinusgruppentreffen.eu
SUMMARY:Treffen im Bürgerpark in Pfaffenhofen
DESCRIPTION:
URL:https://cms.joinusgruppentreffen.eu/event/eis-essen-in-pfaffenhofen/
LOCATION:Bürgerpark\, Weiherer Str. 16\, Pfaffenhofen\, 85276
ORGANIZER;CN="Bettina Bergmann":MAILTO:bettina@joinusgruppentreffen.eu
END:VEVENT
BEGIN:VEVENT
DTSTART;TZID=Europe/Paris:20240306T203000
DTEND;TZID=Europe/Paris:20240306T230000
DTSTAMP:20260423T032334
CREATED:20240303T070856Z
LAST-MODIFIED:20240306T082452Z
UID:3484-1709757000-1709766000@cms.joinusgruppentreffen.eu
SUMMARY:Treffen beim McDonald's in Schweitenkirchen
DESCRIPTION:
URL:https://cms.joinusgruppentreffen.eu/event/treffen-beim-mc-donalds-in-schweitenkirchen/
LOCATION:McDonald’s Schweitenkirchen\, Robert-Koch-Str. 5\, Schweitenkirchen\, 85301
CATEGORIES:Kultur
ORGANIZER;CN="Bettina Bergmann":MAILTO:bettina@joinusgruppentreffen.eu
END:VEVENT
BEGIN:VEVENT
DTSTART;TZID=UTC:20240307T190000
DTEND;TZID=UTC:20240307T213000
DTSTAMP:20260423T032334
CREATED:20240301T055731Z
LAST-MODIFIED:20240307T075938Z
UID:3430-1709838000-1709847000@cms.joinusgruppentreffen.eu
SUMMARY:Treffen beim Italiener in Pfaffenhofen
DESCRIPTION: 
URL:https://cms.joinusgruppentreffen.eu/event/treffen-im-biergarten-im-garching/
LOCATION:Da Nuccio\, Raiffeisenstr. 14\, Pfaffenhofen\, 85276
CATEGORIES:Kultur
ORGANIZER;CN="Bettina Bergmann":MAILTO:bettina@joinusgruppentreffen.eu
END:VEVENT
BEGIN:VEVENT
DTSTART;TZID=Europe/Paris:20240308T180000
DTEND;TZID=Europe/Paris:20240308T180000
DTSTAMP:20260423T032334
CREATED:20240307T123052Z
LAST-MODIFIED:20240307T123052Z
UID:3656-1709920800-1709920800@cms.joinusgruppentreffen.eu
SUMMARY:Test
DESCRIPTION:
URL:https://cms.joinusgruppentreffen.eu/event/test/
LOCATION:noch kein Ort gefunden
ORGANIZER;CN="Bettina Bergmann":MAILTO:bettina@joinusgruppentreffen.eu
END:VEVENT
BEGIN:VEVENT
DTSTART;TZID=UTC:20240309T100000
DTEND;TZID=UTC:20240309T130000
DTSTAMP:20260423T032334
CREATED:20240217T184951Z
LAST-MODIFIED:20240302T171806Z
UID:2968-1709978400-1709989200@cms.joinusgruppentreffen.eu
SUMMARY:Frühstück im Café Mohrenkopf in Ingolstadt
DESCRIPTION:Hier bin ich auch mehr oder weniger “Stammgast”\, es ist einfach lecker. 🙂 \nbarrierefrei zugänglich.
URL:https://cms.joinusgruppentreffen.eu/event/fruhstuck-im-cafe-mohrenkopf-in-ingolstadt/
LOCATION:Café Mohrenkopf\, Donaustr. 8\, Ingolstadt\, 85049
CATEGORIES:Essen
ORGANIZER;CN="Bettina Bergmann":MAILTO:bettina@joinusgruppentreffen.eu
END:VEVENT
BEGIN:VEVENT
DTSTART;TZID=UTC:20240309T163000
DTEND;TZID=UTC:20240309T213000
DTSTAMP:20260423T032334
CREATED:20240219T145802Z
LAST-MODIFIED:20240309T113303Z
UID:3118-1710001800-1710019800@cms.joinusgruppentreffen.eu
SUMMARY:Kino in Neufahrn - wo die Lüge hinfällt
DESCRIPTION:Kosten pro Karte 8€ pro Person\, bitte selbst besorgen. \nUm 19:00 Uhr gehen wir zum Ausklang noch zu Ruffs Burger (bitte separat anmelden)
URL:https://cms.joinusgruppentreffen.eu/event/kino-in-neufahrn-wo-die-luge-hinfallt/
LOCATION:Cineplex Neufahrn\, Bajuwarenstraße 5\, Neufahrn bei Freising\, 85375
ORGANIZER;CN="Bettina Bergmann":MAILTO:bettina@joinusgruppentreffen.eu
END:VEVENT
BEGIN:VEVENT
DTSTART;TZID=UTC:20240310T110000
DTEND;TZID=UTC:20240310T150000
DTSTAMP:20260423T032334
CREATED:20240215T142346Z
LAST-MODIFIED:20240310T083707Z
UID:2798-1710068400-1710082800@cms.joinusgruppentreffen.eu
SUMMARY:Leichte Wanderung bei Scheyern mit Martin
DESCRIPTION:Mit anschließender Stärkung in der Klosterschenke Scheyern um etwa 12:30 (bitte hier separat anmelden) \nTreffpunkt beim Rewe Parkplatz in Scheyern
URL:https://cms.joinusgruppentreffen.eu/event/leichte-wanderung-bei-scheyern-mit-martin/
LOCATION:Kloster Scheyern\, Schyrenplatz 1\, Scheyern\, 85298
END:VEVENT
BEGIN:VEVENT
DTSTART;TZID=Europe/Paris:20240314T193000
DTEND;TZID=Europe/Paris:20240314T223000
DTSTAMP:20260423T032334
CREATED:20240307T211651Z
LAST-MODIFIED:20240314T170807Z
UID:3666-1710444600-1710455400@cms.joinusgruppentreffen.eu
SUMMARY:Stammtisch "Neu in Pfaffenhofen"
DESCRIPTION:Für alle neuen und alt eingesessenen Pfaffenhofener. Und alle anderen 😀 \nMit anschließendem Ausklang im PAFs (Cocktailbar) in der Scheyerer Str. 36 (bitte separat anmelden) \nDer Stammtisch wird alle 2 Wochen am Donnerstag/Samstag stattfinden – immer wo anders 🙂
URL:https://cms.joinusgruppentreffen.eu/event/stammtisch-neu-in-pfaffenhofen/
LOCATION:Waldspielplatz Pfaffenhofen\, Zum Waldspielpl. 1\, Pfaffenhofen\, 85276
ORGANIZER;CN="Bettina Bergmann":MAILTO:bettina@joinusgruppentreffen.eu
END:VEVENT
BEGIN:VEVENT
DTSTART;TZID=UTC:20240317T100000
DTEND;TZID=UTC:20240317T133000
DTSTAMP:20260423T032334
CREATED:20240225T120713Z
LAST-MODIFIED:20240315T040329Z
UID:3359-1710669600-1710682200@cms.joinusgruppentreffen.eu
SUMMARY:Frühstück in der Orangerie in Freising
DESCRIPTION:
URL:https://cms.joinusgruppentreffen.eu/event/fruehstueck-in-der-orangerie-in-freising/
LOCATION:Orangerie Freising\, Am Staudengarten 11\, Freising\, 85354
CATEGORIES:Kultur
ORGANIZER;CN="Bettina Bergmann":MAILTO:bettina@joinusgruppentreffen.eu
END:VEVENT
BEGIN:VEVENT
DTSTART;TZID=Europe/Paris:20240317T160000
DTEND;TZID=Europe/Paris:20240317T190000
DTSTAMP:20260423T032334
CREATED:20240312T102031Z
LAST-MODIFIED:20240317T104948Z
UID:3799-1710691200-1710702000@cms.joinusgruppentreffen.eu
SUMMARY:Dult in Pfaffenhofen
DESCRIPTION:Einfach ein gemütliches Treffen an der Dult. \nTreffpunkt am Rathaus.
URL:https://cms.joinusgruppentreffen.eu/event/dult-in-pfaffenhofen/
LOCATION:Hauptplatz Pfaffenhofen\, Hauptplatz\, Pfaffenhofen\, 85276
ATTACH;FMTTYPE=image/jpeg:https://cms.joinusgruppentreffen.eu/wp-content/uploads/2024/03/Dult-1.jpeg
ORGANIZER;CN="Bettina Bergmann":MAILTO:bettina@joinusgruppentreffen.eu
END:VEVENT
BEGIN:VEVENT
DTSTART;TZID=Europe/Paris:20240319T190000
DTEND;TZID=Europe/Paris:20240319T220000
DTSTAMP:20260423T032334
CREATED:20240308T070907Z
LAST-MODIFIED:20240316T142759Z
UID:3678-1710874800-1710885600@cms.joinusgruppentreffen.eu
SUMMARY:Steak essen beim Othello in Pfaffenhofen
DESCRIPTION:
URL:https://cms.joinusgruppentreffen.eu/event/steak-essen-beim-othello-in-pfaffenhofen/
LOCATION:Café Othello\, Hauptplatz 2 Pfaffenhofen\, 85276 Germany
CATEGORIES:Kultur
ORGANIZER;CN="Bettina Bergmann":MAILTO:bettina@joinusgruppentreffen.eu
END:VEVENT
BEGIN:VEVENT
DTSTART;TZID=Europe/Paris:20240321T203000
DTEND;TZID=Europe/Paris:20240321T223000
DTSTAMP:20260423T032334
CREATED:20240317T183956Z
LAST-MODIFIED:20240320T193712Z
UID:3877-1711053000-1711060200@cms.joinusgruppentreffen.eu
SUMMARY:Feierabend in Pfaffenhofen
DESCRIPTION:Auf dieser Veranstaltung werden Gruppenfotos gemacht\, die auf Facebook/der Website gepostet werden\, wenn du nicht drauf sein willst\, bitte gib zu Beginn der Veranstaltung bescheid.
URL:https://cms.joinusgruppentreffen.eu/event/feierabend-in-pfaffenhofen-2/
CATEGORIES:Kultur
ORGANIZER;CN="Bettina Bergmann":MAILTO:bettina@joinusgruppentreffen.eu
END:VEVENT
BEGIN:VEVENT
DTSTART;TZID=Europe/Paris:20240323T183000
DTEND;TZID=Europe/Paris:20240323T220000
DTSTAMP:20260423T032334
CREATED:20240310T173203Z
LAST-MODIFIED:20240322T111313Z
UID:3773-1711218600-1711231200@cms.joinusgruppentreffen.eu
SUMMARY:Stammtisch "neu in Pfaffenhofen"
DESCRIPTION:Die Alte Eiche hat bayrische Gerichte.
URL:https://cms.joinusgruppentreffen.eu/event/stammtisch-neu-in-pfaffenhofen-2/
LOCATION:Alte Eiche Pfaffenhofeen\, Ingolstädter Str. 36\, Pfaffenhofen\, 85276
ORGANIZER;CN="Bettina Bergmann":MAILTO:bettina@joinusgruppentreffen.eu
END:VEVENT
BEGIN:VEVENT
DTSTART;TZID=Europe/Paris:20240324T150000
DTEND;TZID=Europe/Paris:20240324T170000
DTSTAMP:20260423T032334
CREATED:20240323T121353Z
LAST-MODIFIED:20240323T234706Z
UID:3994-1711292400-1711299600@cms.joinusgruppentreffen.eu
SUMMARY:Kaffee trinken in Pfaffenhofen
DESCRIPTION:
URL:https://cms.joinusgruppentreffen.eu/event/kaffee-trinken-in-pfaffenhofen/
LOCATION:Eiscafè da Claudio\, Hauptplatz 19\, Pfaffenhofen\, 85276
CATEGORIES:Kultur
ORGANIZER;CN="Bettina Bergmann":MAILTO:bettina@joinusgruppentreffen.eu
END:VEVENT
BEGIN:VEVENT
DTSTART;TZID=Europe/Paris:20240326T190000
DTEND;TZID=Europe/Paris:20240326T210000
DTSTAMP:20260423T032334
CREATED:20240323T080527Z
LAST-MODIFIED:20240323T135518Z
UID:3978-1711479600-1711486800@cms.joinusgruppentreffen.eu
SUMMARY:Kegelabend in Pfaffenhofen
DESCRIPTION: 
URL:https://cms.joinusgruppentreffen.eu/event/kegelabend-in-pfaffenhofen/
LOCATION:Kolpinghaus\, Auenstr. 50\, Pfaffenhofen\, 85276
CATEGORIES:Kultur
ORGANIZER;CN="Bettina Bergmann":MAILTO:bettina@joinusgruppentreffen.eu
END:VEVENT
BEGIN:VEVENT
DTSTART;TZID=Europe/Paris:20240327T213000
DTEND;TZID=Europe/Paris:20240327T213000
DTSTAMP:20260423T032334
CREATED:20240327T200123Z
LAST-MODIFIED:20240327T200401Z
UID:4084-1711575000-1711575000@cms.joinusgruppentreffen.eu
SUMMARY:Test
DESCRIPTION:iaihoaiwh
URL:https://cms.joinusgruppentreffen.eu/event/test-2/
LOCATION:noch kein Ort gefunden
CATEGORIES:Kultur
END:VEVENT
BEGIN:VEVENT
DTSTART;TZID=Europe/Paris:20240329T110000
DTEND;TZID=Europe/Paris:20240329T150000
DTSTAMP:20260423T032334
CREATED:20240309T135548Z
LAST-MODIFIED:20240328T172724Z
UID:3715-1711710000-1711724400@cms.joinusgruppentreffen.eu
SUMMARY:Karfreitag - Fisch essen in Uttenhofen (Pfaffenhofen)
DESCRIPTION:Ja ihr dürft und müsst über den Radweg fahren. \nFolgende Gerichte werden angeboten: \n\nSteckerlfisch 14\,10  €\nSalat mit Meeresfrüchten und Knoblauchbaguette 11\,30 €    \nWarm geräucherte Forellen mit Kartoffelsalat 13\,70 €  \nMatjes Hausfrauenart\, Salzkartoffeln 11\,40 €\nMatjes zu Omas Zeiten Natur Zwiebeln\, Öl Essig\, Kartoffeln 14\,10 €     \nKrabbencocktail mit Toast 11\,20 €\nKalte Fischplatte 14\,90 €\nFischsuppe mit Pernod 12\,70 €\nFischragout mit Nudeln   13\,30 €\nLachsnudeln\, Babytomaten 11\,80 €\nSeeteufel mit Hummersauce\, Reis\, Brokkoli 24\,70 €\nSeezunge geb. mit Salzkartoffeln und Salat 27\,80 €\nPanierter Fisch mit Kartoffelsalat\, Remouladensauce 9\,90 €\nbei Bedarf gibt’s auch andere Gerichte 🙂\n\nBitte eine ungefähre Abschätzung abgeben\, was ihr essen möchtet. \nGerne könnt ihr Familie und Freunde mitnehmen. \nBarrierefrei erreichbar. \nWir können auch gerne Fahrgemeinschaften gründen\, bitte kontaktiert mich hierzu. 🙂 \n 
URL:https://cms.joinusgruppentreffen.eu/event/karfreitag-fisch-essen-in-uttenhofen-pfaffenhofen/
LOCATION:Fischerhütte Uttenhofen\, Wiesengrund\, 85276\, Germany
ORGANIZER;CN="Bettina Bergmann":MAILTO:bettina@joinusgruppentreffen.eu
END:VEVENT
BEGIN:VEVENT
DTSTART;TZID=Europe/Paris:20240330T173000
DTEND;TZID=Europe/Paris:20240330T173000
DTSTAMP:20260423T032334
CREATED:20240325T093119Z
LAST-MODIFIED:20240330T142651Z
UID:4028-1711819800-1711819800@cms.joinusgruppentreffen.eu
SUMMARY:Biergarten in Pfaffenhofen
DESCRIPTION:Die Biergartensaison ist eingeläutet und das muss am Samstag gefeiert werden! \nEs ist drinnen UND draußen reserviert 🙂
URL:https://cms.joinusgruppentreffen.eu/event/biergarten-in-pfaffenhofen/
LOCATION:Alte Eiche Pfaffenhofeen\, Ingolstädter Str. 36\, Pfaffenhofen\, 85276
CATEGORIES:Kultur
ORGANIZER;CN="Bettina Bergmann":MAILTO:bettina@joinusgruppentreffen.eu
END:VEVENT
BEGIN:VEVENT
DTSTART;TZID=Europe/Paris:20240331T153000
DTEND;TZID=Europe/Paris:20240331T170000
DTSTAMP:20260423T032334
CREATED:20240323T120650Z
LAST-MODIFIED:20240328T165715Z
UID:3991-1711899000-1711904400@cms.joinusgruppentreffen.eu
SUMMARY:Eis essen in Pfaffenhofen
DESCRIPTION:Wer möchte mit uns das neue Eiscafé in Pfaffenhofen ausprobieren?
URL:https://cms.joinusgruppentreffen.eu/event/eis-essen-in-pfaffenhofenae/
LOCATION:Eiscafè da Claudio\, Hauptplatz 19\, Pfaffenhofen\, 85276
CATEGORIES:Kultur
ORGANIZER;CN="Bettina Bergmann":MAILTO:bettina@joinusgruppentreffen.eu
END:VEVENT
END:VCALENDAR