BEGIN:VCALENDAR
VERSION:2.0
PRODID:-//JoinUs Gruppentreffen - ECPv6.15.20//NONSGML v1.0//EN
CALSCALE:GREGORIAN
METHOD:PUBLISH
X-WR-CALNAME:JoinUs Gruppentreffen
X-ORIGINAL-URL:https://cms.joinusgruppentreffen.eu
X-WR-CALDESC:Veranstaltungen für JoinUs Gruppentreffen
REFRESH-INTERVAL;VALUE=DURATION:PT1H
X-Robots-Tag:noindex
X-PUBLISHED-TTL:PT1H
BEGIN:VTIMEZONE
TZID:Europe/Paris
BEGIN:DAYLIGHT
TZOFFSETFROM:+0100
TZOFFSETTO:+0200
TZNAME:CEST
DTSTART:20230326T010000
END:DAYLIGHT
BEGIN:STANDARD
TZOFFSETFROM:+0200
TZOFFSETTO:+0100
TZNAME:CET
DTSTART:20231029T010000
END:STANDARD
BEGIN:DAYLIGHT
TZOFFSETFROM:+0100
TZOFFSETTO:+0200
TZNAME:CEST
DTSTART:20240331T010000
END:DAYLIGHT
BEGIN:STANDARD
TZOFFSETFROM:+0200
TZOFFSETTO:+0100
TZNAME:CET
DTSTART:20241027T010000
END:STANDARD
BEGIN:DAYLIGHT
TZOFFSETFROM:+0100
TZOFFSETTO:+0200
TZNAME:CEST
DTSTART:20250330T010000
END:DAYLIGHT
BEGIN:STANDARD
TZOFFSETFROM:+0200
TZOFFSETTO:+0100
TZNAME:CET
DTSTART:20251026T010000
END:STANDARD
END:VTIMEZONE
BEGIN:VTIMEZONE
TZID:UTC
BEGIN:STANDARD
TZOFFSETFROM:+0000
TZOFFSETTO:+0000
TZNAME:UTC
DTSTART:20230101T000000
END:STANDARD
END:VTIMEZONE
BEGIN:VEVENT
DTSTART;TZID=Europe/Paris:20240401T100000
DTEND;TZID=Europe/Paris:20240401T123000
DTSTAMP:20260423T020040
CREATED:20240325T095004Z
LAST-MODIFIED:20240331T090604Z
UID:4032-1711965600-1711974600@cms.joinusgruppentreffen.eu
SUMMARY:Osterfrühstück in Pfaffenhofen
DESCRIPTION:Erzählt doch\, wie euer Ostern war! \nbarrierefrei erreichbar
URL:https://cms.joinusgruppentreffen.eu/event/osterfruehstueck-in-pfaffenhofen/
LOCATION:Café Othello\, Hauptplatz 2 Pfaffenhofen\, 85276 Germany
CATEGORIES:Kultur
ORGANIZER;CN="Bettina Bergmann":MAILTO:bettina@joinusgruppentreffen.eu
END:VEVENT
BEGIN:VEVENT
DTSTART;TZID=Europe/Paris:20240402T183000
DTEND;TZID=Europe/Paris:20240402T210000
DTSTAMP:20260423T020040
CREATED:20240327T072459Z
LAST-MODIFIED:20240402T081212Z
UID:4073-1712082600-1712091600@cms.joinusgruppentreffen.eu
SUMMARY:Steak essen in Pfaffenhofen
DESCRIPTION:jeden Dienstag ist beim Othello Steakabend 🙂
URL:https://cms.joinusgruppentreffen.eu/event/steak-essen-in-pfaffenhofen/
LOCATION:Café Othello\, Hauptplatz 2 Pfaffenhofen\, 85276 Germany
CATEGORIES:Kultur
ORGANIZER;CN="Bettina Bergmann":MAILTO:bettina@joinusgruppentreffen.eu
END:VEVENT
BEGIN:VEVENT
DTSTART;TZID=Europe/Paris:20240404T190000
DTEND;TZID=Europe/Paris:20240404T220000
DTSTAMP:20260423T020040
CREATED:20240316T090501Z
LAST-MODIFIED:20240319T084807Z
UID:3827-1712257200-1712268000@cms.joinusgruppentreffen.eu
SUMMARY:Stammtisch beim Kurbi in Schernbuch (Allershausen)
DESCRIPTION:Es gibt italienische sowie bayrische Küche und auch Burger\, alles was das Herz begehrt. 🙂 \nmit Kicker\, Billard\, Air Hockey\, … können wir uns nach dem Essen “sportlich” betätigen. 😀 \nWer erst später dazukommen kann\, auch kein Problem\, aber bitte bescheid sagen 🙂
URL:https://cms.joinusgruppentreffen.eu/event/stammtisch-beim-kurbi-in-schernbuch-allershausen/
LOCATION:Kurbi’s Pilsstubn\, Dorfstr. 18\, Paunzhausen\, 85307
ORGANIZER;CN="Bettina Bergmann":MAILTO:bettina@joinusgruppentreffen.eu
END:VEVENT
BEGIN:VEVENT
DTSTART;TZID=Europe/Paris:20240406T130000
DTEND;TZID=Europe/Paris:20240406T160000
DTSTAMP:20260423T020040
CREATED:20240331T091059Z
LAST-MODIFIED:20240406T091913Z
UID:4129-1712408400-1712419200@cms.joinusgruppentreffen.eu
SUMMARY:Infoveranstaltung im Bürgerpark in Pfaffenhofen
DESCRIPTION:  \nWas soll das Ganze? Welchen Nutzen hat das für mich? \nStellt uns gerne alle Fragen\, die euch einfallen 🙂 \nWenn man dem Wetterbericht vertrauen darf\, solls 26 Grad kriegen. \nGerne auch spontan ohne Anmeldung vorbeischauen! \nBarrierefrei erreichbar.
URL:https://cms.joinusgruppentreffen.eu/event/infoveranstaltung-im-buergerpark-in-pfaffenhofen/
LOCATION:Bürgerpark\, Weiherer Str. 16\, Pfaffenhofen\, 85276
ORGANIZER;CN="Bettina Bergmann":MAILTO:bettina@joinusgruppentreffen.eu
END:VEVENT
BEGIN:VEVENT
DTSTART;TZID=Europe/Paris:20240407T103000
DTEND;TZID=Europe/Paris:20240407T133000
DTSTAMP:20260423T020040
CREATED:20240405T105705Z
LAST-MODIFIED:20240405T113746Z
UID:4208-1712485800-1712496600@cms.joinusgruppentreffen.eu
SUMMARY:Frühstück in Pfaffenhofen
DESCRIPTION:Das Preis-Leistungsverhältnis stimmt hier 🙂
URL:https://cms.joinusgruppentreffen.eu/event/fruehstueck-in-pfaffenhofen/
LOCATION:Eiscafè da Claudio\, Hauptplatz 19\, Pfaffenhofen\, 85276
CATEGORIES:Kultur
ORGANIZER;CN="Bettina Bergmann":MAILTO:bettina@joinusgruppentreffen.eu
END:VEVENT
BEGIN:VEVENT
DTSTART;TZID=Europe/Paris:20240408T150000
DTEND;TZID=Europe/Paris:20240408T163000
DTSTAMP:20260423T020040
CREATED:20240407T083516Z
LAST-MODIFIED:20240408T071137Z
UID:4239-1712588400-1712593800@cms.joinusgruppentreffen.eu
SUMMARY:Treffen im Bürgerpark Pfaffenhofen
DESCRIPTION:Der Kiosk hat leider nicht auf\, Getränke bitte selbst mitbringen. \nWillst du nicht den Nachmittag gemütlich mit uns verbringen?
URL:https://cms.joinusgruppentreffen.eu/event/treffen-im-buergerpark-pfaffenhofen-2/
LOCATION:Bürgerpark\, Weiherer Str. 16\, Pfaffenhofen\, 85276
ORGANIZER;CN="Bettina Bergmann":MAILTO:bettina@joinusgruppentreffen.eu
END:VEVENT
BEGIN:VEVENT
DTSTART;TZID=Europe/Paris:20240413T130000
DTEND;TZID=Europe/Paris:20240413T170000
DTSTAMP:20260423T020040
CREATED:20240404T091807Z
LAST-MODIFIED:20240412T104127Z
UID:4190-1713013200-1713027600@cms.joinusgruppentreffen.eu
SUMMARY:Infoveranstaltung im Bürgerpark Pfaffenhofen
DESCRIPTION:Was soll das Ganze? Was bringt mir das? \nStellt mir gerne alle Fragen\, die euch einfallen 🙂 \nTreffpunkt: am Wasserrad \nkommt gerne dazu\, wann es euch passt\, wir sind bis ca. 17 Uhr vor Ort. \nWenn ihr mit der Anmeldung nicht zurecht kommt\, schreibt mir oder ruft mich an. 01525 4275305 \nJeder nimmt etwas zu essen für alle mit\, ich kümmere mich um Getränke 🙂
URL:https://cms.joinusgruppentreffen.eu/event/infoveranstaltung-im-buergerpark-pfaffenhofen/
LOCATION:Bürgerpark\, Weiherer Str. 16\, Pfaffenhofen\, 85276
CATEGORIES:Kultur
ATTACH;FMTTYPE=image/jpeg:https://cms.joinusgruppentreffen.eu/wp-content/uploads/2024/04/Park.jpg
ORGANIZER;CN="Bettina Bergmann":MAILTO:bettina@joinusgruppentreffen.eu
END:VEVENT
BEGIN:VEVENT
DTSTART;TZID=Europe/Paris:20240414T100000
DTEND;TZID=Europe/Paris:20240414T130000
DTSTAMP:20260423T020040
CREATED:20240321T153229Z
LAST-MODIFIED:20240413T162548Z
UID:3943-1713088800-1713099600@cms.joinusgruppentreffen.eu
SUMMARY:Frühstück in Ingolstadt
DESCRIPTION:Hier gibt’s ein leckeres Frühstück zu einem fairen Preis. \nSieht so aus\, als könnten wir draußen sitzen 🙂 \nBarrierefrei erreichbar.
URL:https://cms.joinusgruppentreffen.eu/event/fruehstueck-in-ingolstadt/
LOCATION:Café Mohrenkopf\, Donaustr. 8\, Ingolstadt\, 85049
CATEGORIES:Kultur
ATTACH;FMTTYPE=image/jpeg:https://cms.joinusgruppentreffen.eu/wp-content/uploads/2024/03/Fruehstueck-1-scaled.jpg
ORGANIZER;CN="Bettina Bergmann":MAILTO:bettina@joinusgruppentreffen.eu
END:VEVENT
BEGIN:VEVENT
DTSTART;TZID=Europe/Paris:20240417T150000
DTEND;TZID=Europe/Paris:20240417T170000
DTSTAMP:20260423T020040
CREATED:20240412T063329Z
LAST-MODIFIED:20240415T091217Z
UID:4419-1713366000-1713373200@cms.joinusgruppentreffen.eu
SUMMARY:Kaffee trinken im Café Agil in Pfaffenhofen
DESCRIPTION:Einfach einen gemütlichen Nachmittag verbringen 🙂
URL:https://cms.joinusgruppentreffen.eu/event/kaffee-trinken-in-pfaffenhofen-2/
LOCATION:Café Agil\, Löwenstr. 6\, Pfaffenhofen\, 85276
CATEGORIES:Kultur
ATTACH;FMTTYPE=image/jpeg:https://cms.joinusgruppentreffen.eu/wp-content/uploads/2024/04/Kaffee-trinken-scaled.jpg
ORGANIZER;CN="Bettina Bergmann":MAILTO:bettina@joinusgruppentreffen.eu
END:VEVENT
BEGIN:VEVENT
DTSTART;TZID=Europe/Paris:20240418T190000
DTEND;TZID=Europe/Paris:20240418T220000
DTSTAMP:20260423T020040
CREATED:20240414T133626Z
LAST-MODIFIED:20240417T085842Z
UID:4470-1713466800-1713477600@cms.joinusgruppentreffen.eu
SUMMARY:Stammtisch in Ingolstadt
DESCRIPTION:Wir gehen italienisch essen 🙂
URL:https://cms.joinusgruppentreffen.eu/event/stammtisch-in-ingolstadt/
LOCATION:Zarillo\, Levelingstr. 38\, Ingolstadt\, 85049
CATEGORIES:Kultur
ATTACH;FMTTYPE=image/jpeg:https://cms.joinusgruppentreffen.eu/wp-content/uploads/2024/04/Italiener-scaled.jpg
ORGANIZER;CN="Bettina Bergmann":MAILTO:bettina@joinusgruppentreffen.eu
END:VEVENT
BEGIN:VEVENT
DTSTART;TZID=Europe/Paris:20240419T180000
DTEND;TZID=Europe/Paris:20240419T210000
DTSTAMP:20260423T020040
CREATED:20240408T192341Z
LAST-MODIFIED:20240419T071002Z
UID:4284-1713549600-1713560400@cms.joinusgruppentreffen.eu
SUMMARY:Essen beim Hop Sing (Vietnamese) in Freising
DESCRIPTION:Mein Lieblingsrestaurant in Freising\, ich kenne den Wirt schon über 10 Jahre. \nRichtig leckeres Essen 🙂
URL:https://cms.joinusgruppentreffen.eu/event/essen-beim-hop-sing-vietnamese-in-freising/
LOCATION:Hop Sing\, Obere Hauptstr. 63\, Freising\, 85354
CATEGORIES:Kultur
ATTACH;FMTTYPE=image/jpeg:https://cms.joinusgruppentreffen.eu/wp-content/uploads/2024/04/Vietnamesisch-scaled.jpg
ORGANIZER;CN="Bettina Bergmann":MAILTO:bettina@joinusgruppentreffen.eu
END:VEVENT
BEGIN:VEVENT
DTSTART;TZID=Europe/Paris:20240420T130000
DTEND;TZID=Europe/Paris:20240420T170000
DTSTAMP:20260423T020040
CREATED:20240415T063437Z
LAST-MODIFIED:20240418T065546Z
UID:4493-1713618000-1713632400@cms.joinusgruppentreffen.eu
SUMMARY:Infonachmittag im Evangelischen Gemeindesaal in Pfaffenhofen
DESCRIPTION:Hallo Zusammen\,\nam Samstag\, 20.4 ab 13 Uhr findet eine kleine Infoveranstaltung zu den Gruppentreffen im Evangelischen Gemeindezentrum in Pfaffenhofen statt. Joseph-Maria-Lutz Str. 1\nKinder auch gerne mitnehmen. \nJeder ist willkommen \nAlso wenn dich das interessiert und du auch mal dabei sein möchtest\, schau einfach vorbei! Kostet auch nichts \nBarrierefrei erreichbar\nGerne auch bekannte Gesichter vorbeikommen!\nGetränke bitte selbst mitnehmen.
URL:https://cms.joinusgruppentreffen.eu/event/infonachmittag-in-pfaffenhofen/
LOCATION:Evangelisches Gemeindezentrum\, Joseph-Maria-Lutz Str. 1\, Pfaffenhofen\, 85276
CATEGORIES:Kultur
ATTACH;FMTTYPE=image/jpeg:https://cms.joinusgruppentreffen.eu/wp-content/uploads/2024/04/Freunde-scaled.jpg
ORGANIZER;CN="Bettina Bergmann":MAILTO:bettina@joinusgruppentreffen.eu
END:VEVENT
BEGIN:VEVENT
DTSTART;TZID=Europe/Paris:20240420T173000
DTEND;TZID=Europe/Paris:20240420T203000
DTSTAMP:20260423T020040
CREATED:20240316T130304Z
LAST-MODIFIED:20240416T170327Z
UID:3834-1713634200-1713645000@cms.joinusgruppentreffen.eu
SUMMARY:Escape Room in Neufahrn bei Freising
DESCRIPTION:Kosten pro Person: 30€ \nWir können auch gerne Fahrgemeinschaften gründen\, bitte kontaktiert mich hierzu. 🙂 \n 
URL:https://cms.joinusgruppentreffen.eu/event/escape-room-in-neufahrn-bei-freising/
LOCATION:Cineplex Neufahrn\, Bajuwarenstraße 5\, Neufahrn bei Freising\, 85375
CATEGORIES:Party's
ATTACH;FMTTYPE=image/jpeg:https://cms.joinusgruppentreffen.eu/wp-content/uploads/2024/03/Escape-Room.jpg
ORGANIZER;CN="Bettina Bergmann":MAILTO:bettina@joinusgruppentreffen.eu
END:VEVENT
BEGIN:VEVENT
DTSTART;TZID=Europe/Paris:20240420T200000
DTEND;TZID=Europe/Paris:20240420T213000
DTSTAMP:20260423T020040
CREATED:20240407T073819Z
LAST-MODIFIED:20240415T091534Z
UID:4231-1713643200-1713648600@cms.joinusgruppentreffen.eu
SUMMARY:Burger essen bei Ruff's Burgers in Neufahrn
DESCRIPTION:bei Ruff’s Burgers
URL:https://cms.joinusgruppentreffen.eu/event/burger-essen-in-neufahrn/
LOCATION:Cineplex Neufahrn\, Bajuwarenstraße 5\, Neufahrn bei Freising\, 85375
ATTACH;FMTTYPE=image/jpeg:https://cms.joinusgruppentreffen.eu/wp-content/uploads/2024/04/Burger-scaled.jpg
END:VEVENT
BEGIN:VEVENT
DTSTART;TZID=Europe/Paris:20240421T100000
DTEND;TZID=Europe/Paris:20240421T130000
DTSTAMP:20260423T020040
CREATED:20240413T170154Z
LAST-MODIFIED:20240419T061723Z
UID:4449-1713693600-1713704400@cms.joinusgruppentreffen.eu
SUMMARY:Frühstück bei Tina's Backträume in Pfaffenhofen
DESCRIPTION:immer wieder gerne hier 🙂
URL:https://cms.joinusgruppentreffen.eu/event/fruehstueck-bei-tinas-backtraeume-in-pfaffenhofen/
LOCATION:Tina’s Backträume\, Spitalstr. 1\, Pfaffenhofen\, 85276
CATEGORIES:Kultur
ATTACH;FMTTYPE=image/jpeg:https://cms.joinusgruppentreffen.eu/wp-content/uploads/2024/04/Fruehstueck-2-scaled.jpg
ORGANIZER;CN="Bettina Bergmann":MAILTO:bettina@joinusgruppentreffen.eu
END:VEVENT
BEGIN:VEVENT
DTSTART;TZID=Europe/Paris:20240422T173000
DTEND;TZID=Europe/Paris:20240422T200000
DTSTAMP:20260423T020040
CREATED:20240415T082208Z
LAST-MODIFIED:20240415T091705Z
UID:4500-1713807000-1713816000@cms.joinusgruppentreffen.eu
SUMMARY:Eis essen im Café Müller in Allershausen
DESCRIPTION:Die Location und die Preise sind noch aus einem anderen Jahrtausend! 😀
URL:https://cms.joinusgruppentreffen.eu/event/eis-essen-in-allershausen/
LOCATION:Café Müller\, Freisinger Str. 16\, Allerhausen\, 85391
CATEGORIES:Kultur
ATTACH;FMTTYPE=image/jpeg:https://cms.joinusgruppentreffen.eu/wp-content/uploads/2024/04/Eiscreme-scaled.jpg
ORGANIZER;CN="Bettina Bergmann":MAILTO:bettina@joinusgruppentreffen.eu
END:VEVENT
BEGIN:VEVENT
DTSTART;TZID=Europe/Paris:20240424T170000
DTEND;TZID=Europe/Paris:20240424T190000
DTSTAMP:20260423T020040
CREATED:20240423T192902Z
LAST-MODIFIED:20240423T192931Z
UID:4654-1713978000-1713985200@cms.joinusgruppentreffen.eu
SUMMARY:Eis essen in Wolnzach
DESCRIPTION:Wer hat spontan Zeit und Lust?
URL:https://cms.joinusgruppentreffen.eu/event/eis-essen-in-wolnzach/
LOCATION:Eiscafé Cortina\, PAF10 51\, Wolnzach\, 85283
CATEGORIES:Kultur
ATTACH;FMTTYPE=image/jpeg:https://cms.joinusgruppentreffen.eu/wp-content/uploads/2024/04/Eiscreme-scaled.jpg
ORGANIZER;CN="Bettina Bergmann":MAILTO:bettina@joinusgruppentreffen.eu
END:VEVENT
BEGIN:VEVENT
DTSTART;TZID=Europe/Paris:20240425T200000
DTEND;TZID=Europe/Paris:20240425T223000
DTSTAMP:20260423T020040
CREATED:20240420T191448Z
LAST-MODIFIED:20240421T193329Z
UID:4558-1714075200-1714084200@cms.joinusgruppentreffen.eu
SUMMARY:Poetry Slam in Freising
DESCRIPTION:
URL:https://cms.joinusgruppentreffen.eu/event/poetry-slam-in-freising/
LOCATION:Lindenkeller\, Veitsmüllerweg 2\, Freising\, 85354
CATEGORIES:Party's
ATTACH;FMTTYPE=image/jpeg:https://cms.joinusgruppentreffen.eu/wp-content/uploads/2024/04/Cocktails-scaled.jpg
ORGANIZER;CN="Bettina Bergmann":MAILTO:bettina@joinusgruppentreffen.eu
END:VEVENT
BEGIN:VEVENT
DTSTART;TZID=UTC:20240426T190000
DTEND;TZID=UTC:20240426T230000
DTSTAMP:20260423T020040
CREATED:20240218T063205Z
LAST-MODIFIED:20240416T172554Z
UID:2986-1714158000-1714172400@cms.joinusgruppentreffen.eu
SUMMARY:Karaoke im PAF'S in Pfaffenhofen
DESCRIPTION:Egal ob Meistersänger oder totaler Anfänger\, das wird bestimmt ein lustiger Abend.
URL:https://cms.joinusgruppentreffen.eu/event/karaoke-im-pafs-in-pfaffenhofen/
CATEGORIES:Kultur
ATTACH;FMTTYPE=image/jpeg:https://cms.joinusgruppentreffen.eu/wp-content/uploads/2024/02/Karaoke-scaled.jpg
ORGANIZER;CN="Bettina Bergmann":MAILTO:bettina@joinusgruppentreffen.eu
END:VEVENT
BEGIN:VEVENT
DTSTART;TZID=Europe/Paris:20240427T140000
DTEND;TZID=Europe/Paris:20240427T170000
DTSTAMP:20260423T020040
CREATED:20240422T070741Z
LAST-MODIFIED:20240423T112124Z
UID:4596-1714226400-1714237200@cms.joinusgruppentreffen.eu
SUMMARY:Spaziergang an der Ilm in Pfaffenhofen mit Peter
DESCRIPTION:Treffpunkt beim alten Rewe am Bürgerpark \nKinder und Hunde sind herzlich willkommen 🙂 \n  \nWir freuen uns auf euch\, \nBettina und Peter 🙂
URL:https://cms.joinusgruppentreffen.eu/event/spaziergang-an-der-ilm-in-pfaffenhofen/
LOCATION:Bürgerpark\, Weiherer Str. 16\, Pfaffenhofen\, 85276
CATEGORIES:Sport
ATTACH;FMTTYPE=image/jpeg:https://cms.joinusgruppentreffen.eu/wp-content/uploads/2024/04/pexels-christina99999-20749988-scaled.jpg
ORGANIZER;CN="Bettina Bergmann":MAILTO:bettina@joinusgruppentreffen.eu
END:VEVENT
BEGIN:VEVENT
DTSTART;TZID=Europe/Paris:20240427T210000
DTEND;TZID=Europe/Paris:20240427T223000
DTSTAMP:20260423T020040
CREATED:20240408T192541Z
LAST-MODIFIED:20240419T102918Z
UID:4287-1714251600-1714257000@cms.joinusgruppentreffen.eu
SUMMARY:Cocktails in der Bar La Cueva in Freising
DESCRIPTION:Eine sehr schöne Bar mit richtig cooler Atmosphäre 🙂
URL:https://cms.joinusgruppentreffen.eu/event/cocktails-in-freising/
LOCATION:La Cueva Freising\, Marienplatz 2\, Freising\, 85354
CATEGORIES:Kultur
ATTACH;FMTTYPE=image/jpeg:https://cms.joinusgruppentreffen.eu/wp-content/uploads/2024/04/Cocktails-scaled.jpg
ORGANIZER;CN="Bettina Bergmann":MAILTO:bettina@joinusgruppentreffen.eu
END:VEVENT
BEGIN:VEVENT
DTSTART;TZID=Europe/Paris:20240428T110000
DTEND;TZID=Europe/Paris:20240428T123000
DTSTAMP:20260423T020040
CREATED:20240424T185421Z
LAST-MODIFIED:20240428T050823Z
UID:4676-1714302000-1714307400@cms.joinusgruppentreffen.eu
SUMMARY:Frühstück in Pfaffenhofen
DESCRIPTION:
URL:https://cms.joinusgruppentreffen.eu/event/fruehstueck-in-pfaffenhofen-2/
LOCATION:Eiscafè da Claudio\, Hauptplatz 19\, Pfaffenhofen\, 85276
CATEGORIES:Kultur
ATTACH;FMTTYPE=image/jpeg:https://cms.joinusgruppentreffen.eu/wp-content/uploads/2024/04/Parkcafe.jpg
ORGANIZER;CN="Bettina Bergmann":MAILTO:bettina@joinusgruppentreffen.eu
END:VEVENT
BEGIN:VEVENT
DTSTART;TZID=Europe/Paris:20240430T190000
DTEND;TZID=Europe/Paris:20240430T230000
DTSTAMP:20260423T020040
CREATED:20240422T092446Z
LAST-MODIFIED:20240428T182134Z
UID:4603-1714503600-1714518000@cms.joinusgruppentreffen.eu
SUMMARY:Jazz Jam Session in Pfaffenhofen - offene Bühne mit Peter und Bettina
DESCRIPTION:Die ganz Mutigen unter euch dürfen sich sogar auf die Bühne trauen und ihr Bestes von sich geben. \nDer Rest kann sich im Publikum zurücklehnen und den  Abend genießen 🙂
URL:https://cms.joinusgruppentreffen.eu/event/jazz-jam-session-in-pfaffenhofen-kostenloses-konzert/
LOCATION:Intakt Musikinstitut\, Raiffeisenstr. 33\, Pfaffenhofen\, 85276
CATEGORIES:Kultur
ATTACH;FMTTYPE=image/jpeg:https://cms.joinusgruppentreffen.eu/wp-content/uploads/2024/04/Jazz-scaled.jpg
ORGANIZER;CN="Bettina Bergmann":MAILTO:bettina@joinusgruppentreffen.eu
END:VEVENT
END:VCALENDAR