BEGIN:VCALENDAR
VERSION:2.0
PRODID:-//JoinUs Gruppentreffen - ECPv6.15.20//NONSGML v1.0//EN
CALSCALE:GREGORIAN
METHOD:PUBLISH
X-ORIGINAL-URL:https://cms.joinusgruppentreffen.eu
X-WR-CALDESC:Veranstaltungen für JoinUs Gruppentreffen
REFRESH-INTERVAL;VALUE=DURATION:PT1H
X-Robots-Tag:noindex
X-PUBLISHED-TTL:PT1H
BEGIN:VTIMEZONE
TZID:Europe/Paris
BEGIN:DAYLIGHT
TZOFFSETFROM:+0100
TZOFFSETTO:+0200
TZNAME:CEST
DTSTART:20230326T010000
END:DAYLIGHT
BEGIN:STANDARD
TZOFFSETFROM:+0200
TZOFFSETTO:+0100
TZNAME:CET
DTSTART:20231029T010000
END:STANDARD
BEGIN:DAYLIGHT
TZOFFSETFROM:+0100
TZOFFSETTO:+0200
TZNAME:CEST
DTSTART:20240331T010000
END:DAYLIGHT
BEGIN:STANDARD
TZOFFSETFROM:+0200
TZOFFSETTO:+0100
TZNAME:CET
DTSTART:20241027T010000
END:STANDARD
BEGIN:DAYLIGHT
TZOFFSETFROM:+0100
TZOFFSETTO:+0200
TZNAME:CEST
DTSTART:20250330T010000
END:DAYLIGHT
BEGIN:STANDARD
TZOFFSETFROM:+0200
TZOFFSETTO:+0100
TZNAME:CET
DTSTART:20251026T010000
END:STANDARD
END:VTIMEZONE
BEGIN:VEVENT
DTSTART;TZID=Europe/Paris:20240704T190000
DTEND;TZID=Europe/Paris:20240704T220000
DTSTAMP:20260422T214946
CREATED:20240628T135949Z
LAST-MODIFIED:20240703T063912Z
UID:5956-1720119600-1720130400@cms.joinusgruppentreffen.eu
SUMMARY:Stammtisch (Inder) in Pfaffenhofen
DESCRIPTION:
URL:https://cms.joinusgruppentreffen.eu/event/stammtisch-inder-in-pfaffenhofen/
LOCATION:Mr. Singh\, Ingolstädter Str. 59\, Pfaffenhofen\, 85276
CATEGORIES:Essen
ATTACH;FMTTYPE=image/jpeg:https://cms.joinusgruppentreffen.eu/wp-content/uploads/2024/06/Indisch.jpg
ORGANIZER;CN="Bettina Bergmann":MAILTO:bettina@joinusgruppentreffen.eu
END:VEVENT
BEGIN:VEVENT
DTSTART;TZID=Europe/Paris:20240706T150000
DTEND;TZID=Europe/Paris:20240706T190000
DTSTAMP:20260422T214946
CREATED:20240630T125147Z
LAST-MODIFIED:20240703T153821Z
UID:5982-1720278000-1720292400@cms.joinusgruppentreffen.eu
SUMMARY:Biergarten in Pfaffenhofen
DESCRIPTION:Da leider kein gutes Wetter angesagt wird\, wird das evtl. ins Café verlegt\, Treffpunkt ist aber im Bürgerpark!
URL:https://cms.joinusgruppentreffen.eu/event/biergarten-in-pfaffenhofen-4/
LOCATION:Bürgerpark\, Weiherer Str. 16\, Pfaffenhofen\, 85276
CATEGORIES:Essen
ATTACH;FMTTYPE=image/jpeg:https://cms.joinusgruppentreffen.eu/wp-content/uploads/2024/04/Biergarten-scaled.jpg
ORGANIZER;CN="Bettina Bergmann":MAILTO:bettina@joinusgruppentreffen.eu
END:VEVENT
BEGIN:VEVENT
DTSTART;TZID=Europe/Paris:20240709T143000
DTEND;TZID=Europe/Paris:20240709T183000
DTSTAMP:20260422T214946
CREATED:20240707T090926Z
LAST-MODIFIED:20240709T083102Z
UID:6054-1720535400-1720549800@cms.joinusgruppentreffen.eu
SUMMARY:Biergarten in Pfaffenhofen
DESCRIPTION:Gerne könnt ihr auch nachkommen
URL:https://cms.joinusgruppentreffen.eu/event/biergarten-in-pfaffenhofen-5/
LOCATION:Bürgerpark\, Weiherer Str. 16\, Pfaffenhofen\, 85276
CATEGORIES:Essen
ATTACH;FMTTYPE=image/jpeg:https://cms.joinusgruppentreffen.eu/wp-content/uploads/2024/07/Biergarten-Buergerpark.jpg
ORGANIZER;CN="Bettina Bergmann":MAILTO:bettina@joinusgruppentreffen.eu
END:VEVENT
BEGIN:VEVENT
DTSTART;TZID=Europe/Paris:20240712T170000
DTEND;TZID=Europe/Paris:20240712T190000
DTSTAMP:20260422T214946
CREATED:20240403T151836Z
LAST-MODIFIED:20240712T051710Z
UID:4157-1720803600-1720810800@cms.joinusgruppentreffen.eu
SUMMARY:Brauereiführung in Pfaffenhofen
DESCRIPTION:Preis pro Person: 15€ inkl. anschließender Bierverkostung \nEntdecke die Geheimnisse des Brauens und erlebe eine spannende Führung durch die Brauerei Müllerbräu. Erfahre alles über die Braukunst\, von den Rohstoffen bis zum fertigen Bier. Tauche ein in die Geschichte der Brauerei und probiere verschiedene Biersorten direkt vom Fass. Genieße einen unterhaltsamen und informativen Ausflug mit neuen Freunden oder der Familie. Für Bierliebhaber und Neugierige gleichermaßen ein Muss! Buche jetzt deine Teilnahme und erlebe Brauereikultur hautnah!
URL:https://cms.joinusgruppentreffen.eu/event/brauereifuehrung-in-pfaffenhofen/
LOCATION:Brauerei Müllerbräu\, Hauptplatz 38\, Pfaffenhofen\, 85276\, Deutschland
CATEGORIES:Party's
ATTACH;FMTTYPE=image/jpeg:https://cms.joinusgruppentreffen.eu/wp-content/uploads/2024/04/Brauerei-2-scaled.jpg
ORGANIZER;CN="Bettina Bergmann":MAILTO:bettina@joinusgruppentreffen.eu
END:VEVENT
BEGIN:VEVENT
DTSTART;TZID=Europe/Paris:20240712T183000
DTEND;TZID=Europe/Paris:20240712T220000
DTSTAMP:20260422T214946
CREATED:20240707T092826Z
LAST-MODIFIED:20240707T092912Z
UID:6059-1720809000-1720821600@cms.joinusgruppentreffen.eu
SUMMARY:Essen im neuen Sudhaus in Pfaffenhofen
DESCRIPTION:Von vielen sehnlich erwartet. \nDas Essen soll auch lecker sein\, komm überzeug dich selbst.
URL:https://cms.joinusgruppentreffen.eu/event/essen-im-neuen-sudhaus-in-pfaffenhofen/
LOCATION:Brauerei Müllerbräu\, Hauptplatz 38\, Pfaffenhofen\, 85276\, Deutschland
CATEGORIES:Essen
ATTACH;FMTTYPE=image/jpeg:https://cms.joinusgruppentreffen.eu/wp-content/uploads/2024/07/Sudhaus.jpg
ORGANIZER;CN="Bettina Bergmann":MAILTO:bettina@joinusgruppentreffen.eu
END:VEVENT
BEGIN:VEVENT
DTSTART;TZID=Europe/Paris:20240713T120000
DTEND;TZID=Europe/Paris:20240713T160000
DTSTAMP:20260422T214946
CREATED:20240623T130720Z
LAST-MODIFIED:20240713T060510Z
UID:5892-1720872000-1720886400@cms.joinusgruppentreffen.eu
SUMMARY:Spielenachmittag in Sünzhausen (Schweitenkirchen)
DESCRIPTION:Wir spielen Brettspiele wie Rummicup\, Monopoli\, Skippo \nGerne auch eigene mitbringen \nNatürlich könnt ihr auch nachkommen 🙂
URL:https://cms.joinusgruppentreffen.eu/event/spielenachmittag-in-suenzhausen-schweitenkirchen/
LOCATION:Mion’s Café\, Ob. Dorfstr. 12\, Schweitenkirchen\, 85301\, Germany
CATEGORIES:Essen
ATTACH;FMTTYPE=image/jpeg:https://cms.joinusgruppentreffen.eu/wp-content/uploads/2024/04/Brettspiele-scaled.jpg
ORGANIZER;CN="Bettina Bergmann":MAILTO:bettina@joinusgruppentreffen.eu
END:VEVENT
BEGIN:VEVENT
DTSTART;TZID=Europe/Paris:20240713T180000
DTEND;TZID=Europe/Paris:20240713T230000
DTSTAMP:20260422T214946
CREATED:20240627T182503Z
LAST-MODIFIED:20240627T182503Z
UID:5945-1720893600-1720911600@cms.joinusgruppentreffen.eu
SUMMARY:Italiener/Weinbar in Freising
DESCRIPTION:Essen ist sehr lecker\, Ambiente ist top\, Besitzer sind sehr freundlich und Preise nicht so\, wie man es von einer Weinbar erwarten würde 🙂
URL:https://cms.joinusgruppentreffen.eu/event/italiener-weinbar-in-freising/
LOCATION:Oronero Weinbar\, Düwellstr. 18C\, Freising\, 85354
CATEGORIES:Essen
ATTACH;FMTTYPE=image/jpeg:https://cms.joinusgruppentreffen.eu/wp-content/uploads/2024/06/WhatsApp-Bild-2024-06-23-um-08.36.23_c43a892a.jpg
ORGANIZER;CN="Bettina Bergmann":MAILTO:bettina@joinusgruppentreffen.eu
END:VEVENT
BEGIN:VEVENT
DTSTART;TZID=Europe/Paris:20240714T150000
DTEND;TZID=Europe/Paris:20240714T200000
DTSTAMP:20260422T214946
CREATED:20240710T163801Z
LAST-MODIFIED:20240710T163801Z
UID:6088-1720969200-1720987200@cms.joinusgruppentreffen.eu
SUMMARY:Biergarten in Pfaffenhofen
DESCRIPTION:
URL:https://cms.joinusgruppentreffen.eu/event/biergarten-in-pfaffenhofen-6/
LOCATION:Bürgerpark\, Weiherer Str. 16\, Pfaffenhofen\, 85276
CATEGORIES:Essen
ATTACH;FMTTYPE=image/jpeg:https://cms.joinusgruppentreffen.eu/wp-content/uploads/2024/07/Biergarten-Buergerpark.jpg
ORGANIZER;CN="Bettina Bergmann":MAILTO:bettina@joinusgruppentreffen.eu
END:VEVENT
BEGIN:VEVENT
DTSTART;TZID=Europe/Paris:20240718T170000
DTEND;TZID=Europe/Paris:20240718T220000
DTSTAMP:20260422T214946
CREATED:20240712T122848Z
LAST-MODIFIED:20240715T063944Z
UID:6100-1721322000-1721340000@cms.joinusgruppentreffen.eu
SUMMARY:Treffen am Pullinger Weiher in Freising
DESCRIPTION:Gerne auch nachkommen
URL:https://cms.joinusgruppentreffen.eu/event/treffen-am-pullinger-weiher-in-freising/
LOCATION:Pullinger Weiher\, Freising\, 85356
ATTACH;FMTTYPE=image/jpeg:https://cms.joinusgruppentreffen.eu/wp-content/uploads/2024/07/Weiher.jpg
ORGANIZER;CN="Bettina Bergmann":MAILTO:bettina@joinusgruppentreffen.eu
END:VEVENT
BEGIN:VEVENT
DTSTART;TZID=Europe/Paris:20240719T143000
DTEND;TZID=Europe/Paris:20240719T170000
DTSTAMP:20260422T214946
CREATED:20240712T123116Z
LAST-MODIFIED:20240717T124947Z
UID:6103-1721399400-1721408400@cms.joinusgruppentreffen.eu
SUMMARY:Biergarten in Scheyern
DESCRIPTION:Gerne auch nachkommen
URL:https://cms.joinusgruppentreffen.eu/event/biergarten-in-scheyern/
LOCATION:Kloster Scheyern\, Schyrenplatz 1\, Scheyern\, 85298
ATTACH;FMTTYPE=image/jpeg:https://cms.joinusgruppentreffen.eu/wp-content/uploads/2024/06/Biergarten.1.jpg
ORGANIZER;CN="Bettina Bergmann":MAILTO:bettina@joinusgruppentreffen.eu
END:VEVENT
BEGIN:VEVENT
DTSTART;TZID=Europe/Paris:20240719T180000
DTEND;TZID=Europe/Paris:20240719T220000
DTSTAMP:20260422T214946
CREATED:20240712T123325Z
LAST-MODIFIED:20240712T123325Z
UID:6106-1721412000-1721426400@cms.joinusgruppentreffen.eu
SUMMARY:Treffen beim Paf's (Cocktailbar) in Pfaffenhofen
DESCRIPTION:
URL:https://cms.joinusgruppentreffen.eu/event/treffen-beim-pafs-cocktailbar-in-pfaffenhofen/
LOCATION:Paf’s\, Scheyerer Str. 36\, Pfaffenhofen\, 85276
CATEGORIES:Essen
ATTACH;FMTTYPE=image/jpeg:https://cms.joinusgruppentreffen.eu/wp-content/uploads/2024/04/Pafs.jpg
ORGANIZER;CN="Bettina Bergmann":MAILTO:bettina@joinusgruppentreffen.eu
END:VEVENT
BEGIN:VEVENT
DTSTART;TZID=Europe/Paris:20240720T170000
DTEND;TZID=Europe/Paris:20240720T200000
DTSTAMP:20260422T214946
CREATED:20240717T155722Z
LAST-MODIFIED:20240717T155722Z
UID:6170-1721494800-1721505600@cms.joinusgruppentreffen.eu
SUMMARY:Biergarten in Pfaffenhofen
DESCRIPTION:
URL:https://cms.joinusgruppentreffen.eu/event/biergarten-in-pfaffenhofen-7/
LOCATION:Bürgerpark\, Weiherer Str. 16\, Pfaffenhofen\, 85276
CATEGORIES:Essen
ATTACH;FMTTYPE=image/jpeg:https://cms.joinusgruppentreffen.eu/wp-content/uploads/2024/07/Biergarten-Buergerpark.jpg
ORGANIZER;CN="Bettina Bergmann":MAILTO:bettina@joinusgruppentreffen.eu
END:VEVENT
BEGIN:VEVENT
DTSTART;TZID=Europe/Paris:20240721T110000
DTEND;TZID=Europe/Paris:20240721T140000
DTSTAMP:20260422T214946
CREATED:20240719T151716Z
LAST-MODIFIED:20240720T154450Z
UID:6177-1721559600-1721570400@cms.joinusgruppentreffen.eu
SUMMARY:Kuchen essen in Pfaffenhofen
DESCRIPTION:Barrierefrei zugänglich
URL:https://cms.joinusgruppentreffen.eu/event/kuchen-essen-in-pfaffenhofen/
LOCATION:Tina’s Backträume\, Spitalstr. 1\, Pfaffenhofen\, 85276
CATEGORIES:Essen
ATTACH;FMTTYPE=image/jpeg:https://cms.joinusgruppentreffen.eu/wp-content/uploads/2024/05/20240531_105233-scaled.jpg
END:VEVENT
BEGIN:VEVENT
DTSTART;TZID=Europe/Paris:20240726T180000
DTEND;TZID=Europe/Paris:20240726T213000
DTSTAMP:20260422T214946
CREATED:20240720T091727Z
LAST-MODIFIED:20240725T073342Z
UID:6195-1722016800-1722029400@cms.joinusgruppentreffen.eu
SUMMARY:Treffen beim Paf's (Cocktailbar) in Pfaffenhofen
DESCRIPTION:Von 18 – 19 Uhr ist Happy Hour 🙂 \nVerbringe einen entspannten Abend mit netten Leuten in gemütlicher Atmosphäre. Tausche dich bei einem Drink über spannende Themen aus\, knüpfe neue Kontakte und genieße die lockere Stimmung. Ob du neue Freundschaften schließen oder einfach nur einen schönen Abend haben möchtest – hier bist du richtig. Komm vorbei und erlebe gesellige Stunden in guter Gesellschaft. Wir freuen uns auf dich und einen unvergesslichen Abend!
URL:https://cms.joinusgruppentreffen.eu/event/treffen-beim-pafs-in-pfaffenhofen/
LOCATION:Paf’s\, Scheyerer Str. 36\, Pfaffenhofen\, 85276
CATEGORIES:Essen
ATTACH;FMTTYPE=image/jpeg:https://cms.joinusgruppentreffen.eu/wp-content/uploads/2024/07/IMG-20240411-WA0007.jpg
ORGANIZER;CN="Bettina Bergmann":MAILTO:bettina@joinusgruppentreffen.eu
END:VEVENT
BEGIN:VEVENT
DTSTART;TZID=Europe/Paris:20240727T110000
DTEND;TZID=Europe/Paris:20240727T180000
DTSTAMP:20260422T214946
CREATED:20240726T093112Z
LAST-MODIFIED:20240726T093515Z
UID:6257-1722078000-1722103200@cms.joinusgruppentreffen.eu
SUMMARY:Sommerfest des Bürgerhauses Pfaffenhofen
DESCRIPTION:Hallo ihr Lieben wir laden euch alle herzlich ein zu unsren Sommerfest Tag der Offenen Tür ab 11 Uhr und um 15 Uhr ist auch für groß und klein etwas geboten. Der Clown  Picolino  mit Musik  und Karaoke sowie Tanz und Überraschung im Koffer..Mir freuen uns auf euren Besuch  \nAnmeldung nicht zwingend nötig
URL:https://cms.joinusgruppentreffen.eu/event/sommerfest-des-buergerhauses-pfaffenhofen/
LOCATION:Bürgerhaus Pfaffenhofen\, Rot-Kreuz-Str. 2\, Pfaffenhofen\, 85276\, Deutschland
CATEGORIES:Kultur
ATTACH;FMTTYPE=image/jpeg:https://cms.joinusgruppentreffen.eu/wp-content/uploads/2024/07/Buergerhaus.jpeg
END:VEVENT
BEGIN:VEVENT
DTSTART;TZID=Europe/Paris:20240728T100000
DTEND;TZID=Europe/Paris:20240728T140000
DTSTAMP:20260422T214946
CREATED:20240721T144525Z
LAST-MODIFIED:20240721T144525Z
UID:6221-1722160800-1722175200@cms.joinusgruppentreffen.eu
SUMMARY:Frühstück in Pfaffenhofen
DESCRIPTION:
URL:https://cms.joinusgruppentreffen.eu/event/fruehstueck-in-pfaffenhofen-4/
LOCATION:Tina’s Backträume\, Spitalstr. 1\, Pfaffenhofen\, 85276
CATEGORIES:Essen
ATTACH;FMTTYPE=image/jpeg:https://cms.joinusgruppentreffen.eu/wp-content/uploads/2024/05/Fruehstueck-in-Pfaffenhofen1.jpg
ORGANIZER;CN="Bettina Bergmann":MAILTO:bettina@joinusgruppentreffen.eu
END:VEVENT
END:VCALENDAR