BEGIN:VCALENDAR
VERSION:2.0
PRODID:-//JoinUs Gruppentreffen - ECPv6.15.20//NONSGML v1.0//EN
CALSCALE:GREGORIAN
METHOD:PUBLISH
X-ORIGINAL-URL:https://cms.joinusgruppentreffen.eu
X-WR-CALDESC:Veranstaltungen für JoinUs Gruppentreffen
REFRESH-INTERVAL;VALUE=DURATION:PT1H
X-Robots-Tag:noindex
X-PUBLISHED-TTL:PT1H
BEGIN:VTIMEZONE
TZID:Europe/Paris
BEGIN:DAYLIGHT
TZOFFSETFROM:+0100
TZOFFSETTO:+0200
TZNAME:CEST
DTSTART:20230326T010000
END:DAYLIGHT
BEGIN:STANDARD
TZOFFSETFROM:+0200
TZOFFSETTO:+0100
TZNAME:CET
DTSTART:20231029T010000
END:STANDARD
BEGIN:DAYLIGHT
TZOFFSETFROM:+0100
TZOFFSETTO:+0200
TZNAME:CEST
DTSTART:20240331T010000
END:DAYLIGHT
BEGIN:STANDARD
TZOFFSETFROM:+0200
TZOFFSETTO:+0100
TZNAME:CET
DTSTART:20241027T010000
END:STANDARD
BEGIN:DAYLIGHT
TZOFFSETFROM:+0100
TZOFFSETTO:+0200
TZNAME:CEST
DTSTART:20250330T010000
END:DAYLIGHT
BEGIN:STANDARD
TZOFFSETFROM:+0200
TZOFFSETTO:+0100
TZNAME:CET
DTSTART:20251026T010000
END:STANDARD
END:VTIMEZONE
BEGIN:VEVENT
DTSTART;TZID=Europe/Paris:20240901T100000
DTEND;TZID=Europe/Paris:20240901T130000
DTSTAMP:20260422T191636
CREATED:20240829T171902Z
LAST-MODIFIED:20240829T172128Z
UID:6717-1725184800-1725195600@cms.joinusgruppentreffen.eu
SUMMARY:Frühstück in Pfaffenhofen
DESCRIPTION:
URL:https://cms.joinusgruppentreffen.eu/event/fruehstueck-in-pfaffenhofen-6/
LOCATION:Tina’s Backträume\, Spitalstr. 1\, Pfaffenhofen\, 85276
CATEGORIES:Essen
ATTACH;FMTTYPE=image/jpeg:https://cms.joinusgruppentreffen.eu/wp-content/uploads/2024/08/Tinas-Backtraeume.jpg
ORGANIZER;CN="Bettina Bergmann":MAILTO:bettina@joinusgruppentreffen.eu
END:VEVENT
BEGIN:VEVENT
DTSTART;TZID=Europe/Paris:20240901T180000
DTEND;TZID=Europe/Paris:20240901T220000
DTSTAMP:20260422T191636
CREATED:20240821T151118Z
LAST-MODIFIED:20240821T151118Z
UID:6602-1725213600-1725228000@cms.joinusgruppentreffen.eu
SUMMARY:Treffen beim Italiener/Weinbar in Freising
DESCRIPTION:
URL:https://cms.joinusgruppentreffen.eu/event/treffen-beim-italiener-weinbar-in-freising/
LOCATION:Oronero Weinbar\, Düwellstr. 18C\, Freising\, 85354
CATEGORIES:Essen
ATTACH;FMTTYPE=image/jpeg:https://cms.joinusgruppentreffen.eu/wp-content/uploads/2024/08/Oronero.jpg
ORGANIZER;CN="Bettina Bergmann":MAILTO:bettina@joinusgruppentreffen.eu
END:VEVENT
BEGIN:VEVENT
DTSTART;TZID=Europe/Paris:20240907T100000
DTEND;TZID=Europe/Paris:20240907T113000
DTSTAMP:20260422T191636
CREATED:20240906T151906Z
LAST-MODIFIED:20240907T095342Z
UID:6838-1725703200-1725708600@cms.joinusgruppentreffen.eu
SUMMARY:Treffen bei den Allershausener Markttagen
DESCRIPTION:Unser monatlicher Markt für vielfältige\, regionale und frische Produkte für den täglichen Bedarf aus der Region: Obst\, Gemüse\, Backwaren\, Aufstriche\, Wurst\, Fleisch\, Käse\, Honig\, Marmelade und vieles leckeres mehr. Auch gibt es wieder handwerklich hergestellte Produkte aus der Region und Geschenkartikel. \nUnsere Markttage sind aber vor allem auch ein Ort für Austausch\, Begegnung\, Spaß und Abwechslung. Für die kulinarischen Genüsse stehen unsere lokalen „Caterer“ mit „Pop-Up-Biergarten“ und wechselnden Speiseangebot zur Verfügung. \nDie Allershausener Markttage genießen im ganzen Ampertal zwischen Petershausen\, Hohenkammer\, Fahrenzhausen\, Kranzberg\, Zolling\, Haag\, Kirchdorf ein Alleinstellungsmerkmal. Also kommt vorbei und besucht die Allershausener Markttage!
URL:https://cms.joinusgruppentreffen.eu/event/treffen-bei-den-allershausener-markttagen/
LOCATION:Markttage Allershausen\, Klienberger Str.\, Allerhausen\, 85391\, Deutschland
CATEGORIES:Essen,Kultur
ATTACH;FMTTYPE=image/jpeg:https://cms.joinusgruppentreffen.eu/wp-content/uploads/2024/09/Markttage-Allershausen.jpg
ORGANIZER;CN="Bettina Bergmann":MAILTO:bettina@joinusgruppentreffen.eu
END:VEVENT
BEGIN:VEVENT
DTSTART;TZID=Europe/Paris:20240907T180000
DTEND;TZID=Europe/Paris:20240907T230000
DTSTAMP:20260422T191636
CREATED:20240827T150256Z
LAST-MODIFIED:20240902T081537Z
UID:6680-1725732000-1725750000@cms.joinusgruppentreffen.eu
SUMMARY:Volksfest in Pfaffenhofen
DESCRIPTION:Treffpunkt: beim Autoscooter \nWarum du mit uns hingehen solltest? Bei uns gehst du in einer geschützten Gruppe zum Volksfest\, du brauchst keine Angst haben\, dass dich jemand anmacht 😀
URL:https://cms.joinusgruppentreffen.eu/event/volksfest-in-pfaffenhofen/
LOCATION:Volksfestplatz Pfaffenhofen\, Türltorstr.\, Paffenhofen\, 85276
CATEGORIES:Essen,Party's
ATTACH;FMTTYPE=image/jpeg:https://cms.joinusgruppentreffen.eu/wp-content/uploads/2024/08/Volksfest-Pfaffenhofen.jpg
ORGANIZER;CN="Bettina Bergmann":MAILTO:bettina@joinusgruppentreffen.eu
END:VEVENT
BEGIN:VEVENT
DTSTART;TZID=Europe/Paris:20240908T100000
DTEND;TZID=Europe/Paris:20240908T140000
DTSTAMP:20260422T191636
CREATED:20240811T170606Z
LAST-MODIFIED:20240825T084654Z
UID:6416-1725789600-1725804000@cms.joinusgruppentreffen.eu
SUMMARY:Frühstück in Moosburg
DESCRIPTION:
URL:https://cms.joinusgruppentreffen.eu/event/fruehstueck-in-moosburg/
LOCATION:Wochnblatt\, Münchener Str. 1\, Moosburg\, 85368\, Deutschland
CATEGORIES:Essen
ATTACH;FMTTYPE=image/jpeg:https://cms.joinusgruppentreffen.eu/wp-content/uploads/2024/04/Fruehstueck-2-scaled.jpg
ORGANIZER;CN="Bettina Bergmann":MAILTO:bettina@joinusgruppentreffen.eu
END:VEVENT
BEGIN:VEVENT
DTSTART;TZID=Europe/Paris:20240910T170000
DTEND;TZID=Europe/Paris:20240910T220000
DTSTAMP:20260422T191636
CREATED:20240909T172728Z
LAST-MODIFIED:20240910T105021Z
UID:6897-1725987600-1726005600@cms.joinusgruppentreffen.eu
SUMMARY:Treffen am Pfaffenhofener Volksfest
DESCRIPTION:komm mit uns zum Volksfest und freu dich auf unvergessliche Gespräche mit neuen Leuten!
URL:https://cms.joinusgruppentreffen.eu/event/treffen-am-pfaffenhofener-volksfest/
LOCATION:Volksfestplatz Pfaffenhofen\, Türltorstr.\, Paffenhofen\, 85276
CATEGORIES:Essen,Kultur,Party's
ATTACH;FMTTYPE=image/jpeg:https://cms.joinusgruppentreffen.eu/wp-content/uploads/2024/08/Volksfest-Pfaffenhofen.jpg
ORGANIZER;CN="Bettina Bergmann":MAILTO:bettina@joinusgruppentreffen.eu
END:VEVENT
BEGIN:VEVENT
DTSTART;TZID=Europe/Paris:20240913T180000
DTEND;TZID=Europe/Paris:20240913T213000
DTSTAMP:20260422T191636
CREATED:20240911T145144Z
LAST-MODIFIED:20240911T145144Z
UID:6908-1726250400-1726263000@cms.joinusgruppentreffen.eu
SUMMARY:Billard spielen beim Kurbi in Schernbuch
DESCRIPTION:Kulinarisch hat der Kurbi auch einiges zu bieten: Pizza\, Pasta\, Steak\, Burger 🙂
URL:https://cms.joinusgruppentreffen.eu/event/billard-spielen-beim-kurbi-in-schernbuch/
LOCATION:Kurbi’s Pilsstubn\, Dorfstr. 18\, Paunzhausen\, 85307
CATEGORIES:Essen,Sport
ATTACH;FMTTYPE=image/jpeg:https://cms.joinusgruppentreffen.eu/wp-content/uploads/2024/09/Billard.jpg
ORGANIZER;CN="Bettina Bergmann":MAILTO:bettina@joinusgruppentreffen.eu
END:VEVENT
BEGIN:VEVENT
DTSTART;TZID=Europe/Paris:20240915T100000
DTEND;TZID=Europe/Paris:20240915T120000
DTSTAMP:20260422T191636
CREATED:20240906T141445Z
LAST-MODIFIED:20240906T141445Z
UID:6834-1726394400-1726401600@cms.joinusgruppentreffen.eu
SUMMARY:Frühstück in Pfaffenhofen
DESCRIPTION:
URL:https://cms.joinusgruppentreffen.eu/event/fruehstueck-in-pfaffenhofen-7/
LOCATION:Eiscafè da Claudio\, Hauptplatz 19\, Pfaffenhofen\, 85276
CATEGORIES:Essen
ATTACH;FMTTYPE=image/jpeg:https://cms.joinusgruppentreffen.eu/wp-content/uploads/2024/03/Fruehstueck-1-scaled.jpg
ORGANIZER;CN="Bettina Bergmann":MAILTO:bettina@joinusgruppentreffen.eu
END:VEVENT
BEGIN:VEVENT
DTSTART;TZID=Europe/Paris:20240919T190000
DTEND;TZID=Europe/Paris:20240919T210000
DTSTAMP:20260422T191636
CREATED:20240907T121630Z
LAST-MODIFIED:20240916T155712Z
UID:6859-1726772400-1726779600@cms.joinusgruppentreffen.eu
SUMMARY:Geselliges Essen beim Felber's in Allershausen
DESCRIPTION:Einfach kommen und neue Leute kennenlernen – werde Teil unserer Gemeinschaft!
URL:https://cms.joinusgruppentreffen.eu/event/essen-beim-felbers-in-allershausen/
LOCATION:Felber’s Allershausen\, Bgm.-Neumeyr-Straße 4\, Allershausen\, 85391
CATEGORIES:Essen
ATTACH;FMTTYPE=image/jpeg:https://cms.joinusgruppentreffen.eu/wp-content/uploads/2024/04/Italiener-scaled.jpg
ORGANIZER;CN="Bettina Bergmann":MAILTO:bettina@joinusgruppentreffen.eu
END:VEVENT
BEGIN:VEVENT
DTSTART;TZID=Europe/Paris:20240921T103000
DTEND;TZID=Europe/Paris:20240921T123000
DTSTAMP:20260422T191636
CREATED:20240920T144522Z
LAST-MODIFIED:20240921T103905Z
UID:7009-1726914600-1726921800@cms.joinusgruppentreffen.eu
SUMMARY:Kaffee und Kuchen in Pfaffenhofen
DESCRIPTION:Ganz spontan einfach zusagen und den besten Kuchen aus ganz Pfaffenhofen genießen. \nDie Tina ist mir echt schon ans Herz gewachsen 🙂 \nKomm dazu und erweitere deinen Bekanntenkreis!
URL:https://cms.joinusgruppentreffen.eu/event/kaffee-und-kuchen-in-pfaffenhofen-2/
LOCATION:Tina’s Backträume\, Spitalstr. 1\, Pfaffenhofen\, 85276
CATEGORIES:Essen
ATTACH;FMTTYPE=image/jpeg:https://cms.joinusgruppentreffen.eu/wp-content/uploads/2024/05/20240531_105233-scaled.jpg
ORGANIZER;CN="Bettina Bergmann":MAILTO:bettina@joinusgruppentreffen.eu
END:VEVENT
BEGIN:VEVENT
DTSTART;TZID=Europe/Paris:20240922T140000
DTEND;TZID=Europe/Paris:20240922T170000
DTSTAMP:20260422T191636
CREATED:20240823T152746Z
LAST-MODIFIED:20240920T155915Z
UID:6616-1727013600-1727024400@cms.joinusgruppentreffen.eu
SUMMARY:Führung im Wolnzacher Hopfenmuseum
DESCRIPTION:Kosten für die Führung und Eintritt pro Person 10€ \nIm Anschluss fahren wir zu mir\, zur Bierprobe (optional)
URL:https://cms.joinusgruppentreffen.eu/event/fuehrung-im-wolnzacher-hopfenmuseum/
LOCATION:Hopfenmuseum\, Elsenheimerstr. 2\, Wolnzach\, 85283\, Deutschland
CATEGORIES:Führungen,Kultur
ATTACH;FMTTYPE=image/jpeg:https://cms.joinusgruppentreffen.eu/wp-content/uploads/2024/08/Hopfenmuseum.jpeg
ORGANIZER;CN="Bettina Bergmann":MAILTO:bettina@joinusgruppentreffen.eu
END:VEVENT
BEGIN:VEVENT
DTSTART;TZID=Europe/Paris:20240922T170000
DTEND;TZID=Europe/Paris:20240922T210000
DTSTAMP:20260422T191636
CREATED:20240830T125100Z
LAST-MODIFIED:20240918T143127Z
UID:6727-1727024400-1727038800@cms.joinusgruppentreffen.eu
SUMMARY:Bierverkostung mit Stephan in Paunzhausen
DESCRIPTION:“Eine Bierverkostung kann man sich ganz einfach vorstellen\, ich habe verschiedene internationale Spezialitäten dabei\, die man so zum Beispiel nicht im Supermarkt findet. Es gibt also kein Helles\, Weißbier oder Pils 🙂\nIch würde die Biere aber auch nicht als übertriebenes Craft Beer bezeichnen. Es geht einfach darum\, was Neues zu entdecken und seinen Geschmack kennen zu lernen.\nNormalerweise kann man mit circa 0\,2 l pro Bier rechnen aber man kann sich selbst einschenken und dadurch entscheiden\,” \nEs gibt auch alkoholfreie Getränke 🙂 \nDie Veranstaltung wird bei mir zuhause stattfinden – Adresse gibt’s auf Anfrage
URL:https://cms.joinusgruppentreffen.eu/event/private-bierverkostung-mit-stephan-in-wolnzach/
LOCATION:Paunzhausen
CATEGORIES:Kultur
ATTACH;FMTTYPE=image/jpeg:https://cms.joinusgruppentreffen.eu/wp-content/uploads/2024/08/Bierverkostung.jpeg
ORGANIZER;CN="Bettina Bergmann":MAILTO:bettina@joinusgruppentreffen.eu
END:VEVENT
BEGIN:VEVENT
DTSTART;TZID=Europe/Paris:20240928T100000
DTEND;TZID=Europe/Paris:20240928T120000
DTSTAMP:20260422T191636
CREATED:20240919T153656Z
LAST-MODIFIED:20240928T095844Z
UID:6989-1727517600-1727524800@cms.joinusgruppentreffen.eu
SUMMARY:Frühstück in Freising
DESCRIPTION:Menü – CAFE BOTANIKA – das Cafe im Schafhof Freising (cafe-botanika.de)
URL:https://cms.joinusgruppentreffen.eu/event/fruehstueck-in-freising-3/
LOCATION:Schafhof\, Am Schafhof 1\, Freising\, 85354
CATEGORIES:Essen
ATTACH;FMTTYPE=image/jpeg:https://cms.joinusgruppentreffen.eu/wp-content/uploads/2024/04/Fruehstueck-2-scaled.jpg
ORGANIZER;CN="Bettina Bergmann":MAILTO:bettina@joinusgruppentreffen.eu
END:VEVENT
BEGIN:VEVENT
DTSTART;TZID=Europe/Paris:20240929T100000
DTEND;TZID=Europe/Paris:20240929T140000
DTSTAMP:20260422T191636
CREATED:20240919T153833Z
LAST-MODIFIED:20240925T143308Z
UID:6992-1727604000-1727618400@cms.joinusgruppentreffen.eu
SUMMARY:Frühstück in Pfaffenhofen
DESCRIPTION:Oder zum Kuchen essen kommen\, hier gibt’s den besten der Stadt! \nMit ganz viel Liebe gebacken 🙂
URL:https://cms.joinusgruppentreffen.eu/event/fruehstueck-in-pfaffenhofen-8/
LOCATION:Tina’s Backträume\, Spitalstr. 1\, Pfaffenhofen\, 85276
CATEGORIES:Essen
ATTACH;FMTTYPE=image/jpeg:https://cms.joinusgruppentreffen.eu/wp-content/uploads/2024/08/Tinas-Backtraeume.jpg
ORGANIZER;CN="Bettina Bergmann":MAILTO:bettina@joinusgruppentreffen.eu
END:VEVENT
END:VCALENDAR