BEGIN:VCALENDAR
VERSION:2.0
PRODID:-//JoinUs Gruppentreffen - ECPv6.15.20//NONSGML v1.0//EN
CALSCALE:GREGORIAN
METHOD:PUBLISH
X-ORIGINAL-URL:https://cms.joinusgruppentreffen.eu
X-WR-CALDESC:Veranstaltungen für JoinUs Gruppentreffen
REFRESH-INTERVAL;VALUE=DURATION:PT1H
X-Robots-Tag:noindex
X-PUBLISHED-TTL:PT1H
BEGIN:VTIMEZONE
TZID:Europe/Paris
BEGIN:DAYLIGHT
TZOFFSETFROM:+0100
TZOFFSETTO:+0200
TZNAME:CEST
DTSTART:20240331T010000
END:DAYLIGHT
BEGIN:STANDARD
TZOFFSETFROM:+0200
TZOFFSETTO:+0100
TZNAME:CET
DTSTART:20241027T010000
END:STANDARD
BEGIN:DAYLIGHT
TZOFFSETFROM:+0100
TZOFFSETTO:+0200
TZNAME:CEST
DTSTART:20250330T010000
END:DAYLIGHT
BEGIN:STANDARD
TZOFFSETFROM:+0200
TZOFFSETTO:+0100
TZNAME:CET
DTSTART:20251026T010000
END:STANDARD
BEGIN:DAYLIGHT
TZOFFSETFROM:+0100
TZOFFSETTO:+0200
TZNAME:CEST
DTSTART:20260329T010000
END:DAYLIGHT
BEGIN:STANDARD
TZOFFSETFROM:+0200
TZOFFSETTO:+0100
TZNAME:CET
DTSTART:20261025T010000
END:STANDARD
END:VTIMEZONE
BEGIN:VEVENT
DTSTART;TZID=Europe/Paris:20250101T170000
DTEND;TZID=Europe/Paris:20250101T180000
DTSTAMP:20260422T133857
CREATED:20241230T154328Z
LAST-MODIFIED:20241231T081452Z
UID:7858-1735750800-1735754400@cms.joinusgruppentreffen.eu
SUMMARY:Neujahrs Treffen in Pfaffenhofen
DESCRIPTION:Eine kleine\, gemütliche\, unverbindliche Zusammenkunft 🙂 \nWas sind deine Vorsätze fürs neue Jahr? \nWillst du auch mal neue Dinge ausprobieren? \nDann bist du bei uns perfekt!
URL:https://cms.joinusgruppentreffen.eu/event/neujahrs-treffen-in-pfaffenhofen/
LOCATION:Infinito\, Ingolstädter Str. 7\, Pfaffenhofen\, 85276
CATEGORIES:Essen
ATTACH;FMTTYPE=image/jpeg:https://cms.joinusgruppentreffen.eu/wp-content/uploads/2024/04/Italiener-scaled.jpg
ORGANIZER;CN="Bettina Bergmann":MAILTO:bettina@joinusgruppentreffen.eu
END:VEVENT
BEGIN:VEVENT
DTSTART;TZID=Europe/Paris:20250105T103000
DTEND;TZID=Europe/Paris:20250105T140000
DTSTAMP:20260422T133857
CREATED:20250102T084018Z
LAST-MODIFIED:20250104T100527Z
UID:7875-1736073000-1736085600@cms.joinusgruppentreffen.eu
SUMMARY:Frühstück in Pfaffenhofen
DESCRIPTION:Bei Tina gibt’s den besten Kuchen in der Region – lass dir das nicht entgehen! \nKomm zu unserem Frühstück und entdecke die einfachste Methode\, neue Leute kennenzulernen. \nBarrierefrei zugänglich
URL:https://cms.joinusgruppentreffen.eu/event/fruehstueck-in-pfaffenhofen-9/
LOCATION:Tina’s Backträume\, Spitalstr. 1\, Pfaffenhofen\, 85276
CATEGORIES:Essen
ATTACH;FMTTYPE=image/jpeg:https://cms.joinusgruppentreffen.eu/wp-content/uploads/2024/10/Fruehstuecksbuffet.jpg
ORGANIZER;CN="Bettina Bergmann":MAILTO:bettina@joinusgruppentreffen.eu
END:VEVENT
BEGIN:VEVENT
DTSTART;TZID=Europe/Paris:20250111T210000
DTEND;TZID=Europe/Paris:20250112T030000
DTSTAMP:20260422T133857
CREATED:20241223T093438Z
LAST-MODIFIED:20250107T131753Z
UID:7821-1736629200-1736650800@cms.joinusgruppentreffen.eu
SUMMARY:Ü30 Party in Pfaffenhofen mit Kati
DESCRIPTION:Alleine feiern? Nein danke! Komm schließ dich uns an!\n\nGrandioses Ambiente\, tolle Bühne und Sitzgelegenheiten verheißen eine phantastische Nacht am 11.01.2025. Ein eigener Schlagerbereich mit dem Profi-DJ Bibi\, plus 80s\, 90s\, Rock\, Pop und Charts in der Mainarea mit DJ Daniel Melegi.\nKarten gibt es im VVK und auch ab 21 Uhr an der Abendkasse vor Ort. Viel Spaß!\nPS: Du kannst auch einen Tisch reservieren. Schreib an info@megazin.de\nWir freuen uns auf dich!\n\nKarten 10€ pro Person
URL:https://cms.joinusgruppentreffen.eu/event/ue30-party-in-pfaffenhofen-mit-kati/
LOCATION:Stockerhof\, Münchener Str. 86\, Pfaffenhofen\, 85276
CATEGORIES:Party's
ATTACH;FMTTYPE=image/jpeg:https://cms.joinusgruppentreffen.eu/wp-content/uploads/2024/12/Ue30-Party.jpg
ORGANIZER;CN="Bettina Bergmann":MAILTO:bettina@joinusgruppentreffen.eu
END:VEVENT
BEGIN:VEVENT
DTSTART;TZID=Europe/Paris:20250112T150000
DTEND;TZID=Europe/Paris:20250112T180000
DTSTAMP:20260422T133857
CREATED:20241225T145251Z
LAST-MODIFIED:20250110T141258Z
UID:7829-1736694000-1736704800@cms.joinusgruppentreffen.eu
SUMMARY:Kaffee und Kuchen in Pfaffenhofen + Vortrag von "Ihr Lichtblick" mit Bettina und Diana
DESCRIPTION:Der Vortrag findet gegen 16 Uhr statt. \nZum Vortrag: \nBring Licht in deine Gefühle. Die 7 Grundemotionen. \nWir schauen uns die Grundemotionen an und erfahren\, warum sie so wichtig sind. (ca. 20 Minuten) \nPauschale pro Person 20€ \nBarrierefrei zugänglich
URL:https://cms.joinusgruppentreffen.eu/event/kaffee-und-kuchen-in-pfaffenhofen-3/
LOCATION:Evangelisches Gemeindezentrum\, Joseph-Maria-Lutz Str. 1\, Pfaffenhofen\, 85276
CATEGORIES:Essen,Highlights
ATTACH;FMTTYPE=image/jpeg:https://cms.joinusgruppentreffen.eu/wp-content/uploads/2024/12/Kaffeekraenzchen.jpg
ORGANIZER;CN="Bettina Bergmann":MAILTO:bettina@joinusgruppentreffen.eu
END:VEVENT
BEGIN:VEVENT
DTSTART;TZID=Europe/Paris:20250116T140000
DTEND;TZID=Europe/Paris:20250116T160000
DTSTAMP:20260422T133857
CREATED:20250113T105020Z
LAST-MODIFIED:20250114T134243Z
UID:7974-1737036000-1737043200@cms.joinusgruppentreffen.eu
SUMMARY:Spielenachmittag im Cafè Etappe in Freising
DESCRIPTION:Spezialangebot: Eine Tasse Kaffee und ein Stück Kuchen für 5€ \nIhr sucht Spielzeug oder Kleidung für eure Kinder? Hier gibt’s günstige Angebote\, einfach mal durchstöbern 🙂 \nWir spielen Brett- und Kartenspiele 🙂 \n 
URL:https://cms.joinusgruppentreffen.eu/event/spielenachmittag-im-cafe-etappe-in-freising/
LOCATION:Genuss in Etappe Freising\, Vimystr. 3\, Freising\, 85354
CATEGORIES:Essen
ATTACH;FMTTYPE=image/png:https://cms.joinusgruppentreffen.eu/wp-content/uploads/2025/01/Dein-Abschnittstext-1.png
ORGANIZER;CN="Bettina Bergmann":MAILTO:bettina@joinusgruppentreffen.eu
END:VEVENT
BEGIN:VEVENT
DTSTART;TZID=Europe/Paris:20250117T180000
DTEND;TZID=Europe/Paris:20250117T220000
DTSTAMP:20260422T133857
CREATED:20241216T211528Z
LAST-MODIFIED:20250115T201256Z
UID:7779-1737136800-1737151200@cms.joinusgruppentreffen.eu
SUMMARY:Stammtisch in Pfaffenhofen mit Bettina
DESCRIPTION:Der Stammtisch findet in unregelmäßigen Abständen in wechselnden Lokalitäten mit verschiedenen Leuten statt.
URL:https://cms.joinusgruppentreffen.eu/event/stammtisch-in-pfaffenhofen-2/
LOCATION:Insel Pfaffenhofen\, Insel 1\, Pfaffenhofen\, 85276
CATEGORIES:Essen
ATTACH;FMTTYPE=image/jpeg:https://cms.joinusgruppentreffen.eu/wp-content/uploads/2024/05/Stammtisch-in-Unterschleissheim.jpg
ORGANIZER;CN="Bettina Bergmann":MAILTO:bettina@joinusgruppentreffen.eu
END:VEVENT
BEGIN:VEVENT
DTSTART;TZID=Europe/Paris:20250119T120000
DTEND;TZID=Europe/Paris:20250119T140000
DTSTAMP:20260422T133857
CREATED:20241216T195210Z
LAST-MODIFIED:20250106T170149Z
UID:7770-1737288000-1737295200@cms.joinusgruppentreffen.eu
SUMMARY:Winterlicher Spaziergang bei Freising mit Andi
DESCRIPTION:Am Ende können wir in ein Café einkehren\, um uns aufzuwärmen und uns kennenzulernen 🙂 \nTreffpunkt ist beim Haupteingang vom Bahnhof.
URL:https://cms.joinusgruppentreffen.eu/event/winterlicher-spaziergang-bei-freising/
LOCATION:Freising
CATEGORIES:Sport
ATTACH;FMTTYPE=image/jpeg:https://cms.joinusgruppentreffen.eu/wp-content/uploads/2024/02/Wanderung-Scheyern-2-1.jpg
ORGANIZER;CN="Bettina Bergmann":MAILTO:bettina@joinusgruppentreffen.eu
END:VEVENT
BEGIN:VEVENT
DTSTART;TZID=Europe/Paris:20250125T190000
DTEND;TZID=Europe/Paris:20250125T210000
DTSTAMP:20260422T133857
CREATED:20250124T145016Z
LAST-MODIFIED:20250124T145510Z
UID:8123-1737831600-1737838800@cms.joinusgruppentreffen.eu
SUMMARY:Online-Treffen von überall
DESCRIPTION:Hallo Zusammen\, \num JoinUs und die Treffen mal kennenzulernen\, bieten wir ein kurzes Online-Treffen an. (Reines Informationstreffen) \nGerne unverbindlich ohne Anmeldung teilnehmen \nEinwahllink: https://us05web.zoom.us/j/84522393574?pwd=PmqQi531kQXbbtlLrojh3tKqKya29l.1
URL:https://cms.joinusgruppentreffen.eu/event/online-treffen-von-ueberall/
LOCATION:online
ATTACH;FMTTYPE=image/jpeg:https://cms.joinusgruppentreffen.eu/wp-content/uploads/2025/01/Online-Treffen.jpg
ORGANIZER;CN="Bettina Bergmann":MAILTO:bettina@joinusgruppentreffen.eu
END:VEVENT
BEGIN:VEVENT
DTSTART;TZID=Europe/Paris:20250126T100000
DTEND;TZID=Europe/Paris:20250126T130000
DTSTAMP:20260422T133857
CREATED:20250123T161207Z
LAST-MODIFIED:20250124T142809Z
UID:8100-1737885600-1737896400@cms.joinusgruppentreffen.eu
SUMMARY:Frühstück in Pfaffenhofen
DESCRIPTION:Hier gibt’s nicht nur Eis\, sondern auch viele andere leckere Sachen 🙂 \nBarrierefrei zugänglich
URL:https://cms.joinusgruppentreffen.eu/event/fruehstueck-in-pfaffenhofen-10/
LOCATION:Eiscafè da Claudio\, Hauptplatz 19\, Pfaffenhofen\, 85276
CATEGORIES:Essen
ATTACH;FMTTYPE=image/jpeg:https://cms.joinusgruppentreffen.eu/wp-content/uploads/2024/03/Fruehstueck-1-scaled.jpg
ORGANIZER;CN="Bettina Bergmann":MAILTO:bettina@joinusgruppentreffen.eu
END:VEVENT
BEGIN:VEVENT
DTSTART;TZID=Europe/Paris:20250128T180000
DTEND;TZID=Europe/Paris:20250128T200000
DTSTAMP:20260422T133857
CREATED:20241208T174258Z
LAST-MODIFIED:20250124T134958Z
UID:7727-1738087200-1738094400@cms.joinusgruppentreffen.eu
SUMMARY:Spieleabend in Pfaffenhofen mit Bettina
DESCRIPTION:In der Kreisbücherei stehen uns ganz viele Brettspiele kostenlos zur Verfügung. \nUm Getränke kümmere ich mich 🙂 \nDieses Treffen ist absolut kostenlos 🙂
URL:https://cms.joinusgruppentreffen.eu/event/spieleabend-in-pfaffenhofen/
LOCATION:Kreisbücherei Pfaffenhofen\, Scheyerer Str. 51\, Pfaffenhofen\, 85276\, Germany
CATEGORIES:Kultur
ATTACH;FMTTYPE=image/jpeg:https://cms.joinusgruppentreffen.eu/wp-content/uploads/2024/04/Brettspiele-scaled.jpg
ORGANIZER;CN="Bettina Bergmann":MAILTO:bettina@joinusgruppentreffen.eu
END:VEVENT
BEGIN:VEVENT
DTSTART;TZID=Europe/Paris:20250130T140000
DTEND;TZID=Europe/Paris:20250130T183000
DTSTAMP:20260422T133857
CREATED:20250118T074207Z
LAST-MODIFIED:20250129T105811Z
UID:8015-1738245600-1738261800@cms.joinusgruppentreffen.eu
SUMMARY:Spielenachmittag im Café Etappe in Freising
DESCRIPTION:Einfach dazukommen\, wanns euch passt \nSonderangebot: Kaffee + Kuchen 5€.
URL:https://cms.joinusgruppentreffen.eu/event/spielenachmittag-im-cafe-etappe-in-freising-2/
LOCATION:Genuss in Etappe Freising\, Vimystr. 3\, Freising\, 85354
CATEGORIES:Brettspiele,Essen
ATTACH;FMTTYPE=image/jpeg:https://cms.joinusgruppentreffen.eu/wp-content/uploads/2025/01/Spielenachmittag.jpg
ORGANIZER;CN="Bettina Bergmann":MAILTO:bettina@joinusgruppentreffen.eu
END:VEVENT
END:VCALENDAR