BEGIN:VCALENDAR
VERSION:2.0
PRODID:-//JoinUs Gruppentreffen - ECPv6.15.20//NONSGML v1.0//EN
CALSCALE:GREGORIAN
METHOD:PUBLISH
X-ORIGINAL-URL:https://cms.joinusgruppentreffen.eu
X-WR-CALDESC:Veranstaltungen für JoinUs Gruppentreffen
REFRESH-INTERVAL;VALUE=DURATION:PT1H
X-Robots-Tag:noindex
X-PUBLISHED-TTL:PT1H
BEGIN:VTIMEZONE
TZID:Europe/Paris
BEGIN:DAYLIGHT
TZOFFSETFROM:+0100
TZOFFSETTO:+0200
TZNAME:CEST
DTSTART:20240331T010000
END:DAYLIGHT
BEGIN:STANDARD
TZOFFSETFROM:+0200
TZOFFSETTO:+0100
TZNAME:CET
DTSTART:20241027T010000
END:STANDARD
BEGIN:DAYLIGHT
TZOFFSETFROM:+0100
TZOFFSETTO:+0200
TZNAME:CEST
DTSTART:20250330T010000
END:DAYLIGHT
BEGIN:STANDARD
TZOFFSETFROM:+0200
TZOFFSETTO:+0100
TZNAME:CET
DTSTART:20251026T010000
END:STANDARD
BEGIN:DAYLIGHT
TZOFFSETFROM:+0100
TZOFFSETTO:+0200
TZNAME:CEST
DTSTART:20260329T010000
END:DAYLIGHT
BEGIN:STANDARD
TZOFFSETFROM:+0200
TZOFFSETTO:+0100
TZNAME:CET
DTSTART:20261025T010000
END:STANDARD
END:VTIMEZONE
BEGIN:VEVENT
DTSTART;TZID=Europe/Paris:20250402T190000
DTEND;TZID=Europe/Paris:20250402T220000
DTSTAMP:20260420T095914
CREATED:20250328T092800Z
LAST-MODIFIED:20250331T092136Z
UID:8825-1743620400-1743631200@cms.joinusgruppentreffen.eu
SUMMARY:Billard in Schernbuch
DESCRIPTION:
URL:https://cms.joinusgruppentreffen.eu/event/billard-in-schernbuch-2/
LOCATION:Kurbi’s Pilsstubn\, Dorfstr. 18\, Paunzhausen\, 85307
ATTACH;FMTTYPE=image/jpeg:https://cms.joinusgruppentreffen.eu/wp-content/uploads/2024/09/Billard.jpg
ORGANIZER;CN="Bettina Bergmann":MAILTO:bettina@joinusgruppentreffen.eu
END:VEVENT
BEGIN:VEVENT
DTSTART;TZID=Europe/Paris:20250405T140000
DTEND;TZID=Europe/Paris:20250405T170000
DTSTAMP:20260420T095914
CREATED:20250328T084554Z
LAST-MODIFIED:20250403T172706Z
UID:8812-1743861600-1743872400@cms.joinusgruppentreffen.eu
SUMMARY:Kletterpark in Jetzendorf
DESCRIPTION:Kosten pro Person 28€
URL:https://cms.joinusgruppentreffen.eu/event/kletterpark-in-jetzendorf/
LOCATION:Ketterpark Jetzendorf\, Am Waldkletterpark 1\, Jetzendorf\, 85305
ATTACH;FMTTYPE=image/jpeg:https://cms.joinusgruppentreffen.eu/wp-content/uploads/2025/03/Kletterpark.jpg
ORGANIZER;CN="Bettina Bergmann":MAILTO:bettina@joinusgruppentreffen.eu
END:VEVENT
BEGIN:VEVENT
DTSTART;TZID=Europe/Paris:20250407T190000
DTEND;TZID=Europe/Paris:20250407T220000
DTSTAMP:20260420T095914
CREATED:20250325T100727Z
LAST-MODIFIED:20250406T174351Z
UID:8787-1744052400-1744063200@cms.joinusgruppentreffen.eu
SUMMARY:Brettspielabend in Schrobenhausen
DESCRIPTION:Sonderangebot: Currywurst mit Pommes + 0\,5 Getränk für 9€
URL:https://cms.joinusgruppentreffen.eu/event/brettspielabend-in-schrobenhausen/
LOCATION:Sportheim Flamingos for Handicap\, Sportweg 6\, Schrobenhausen\, 86529
ATTACH;FMTTYPE=image/jpeg:https://cms.joinusgruppentreffen.eu/wp-content/uploads/2025/01/Spielenachmittag.jpg
ORGANIZER;CN="Bettina Bergmann":MAILTO:bettina@joinusgruppentreffen.eu
END:VEVENT
BEGIN:VEVENT
DTSTART;TZID=Europe/Paris:20250412T170000
DTEND;TZID=Europe/Paris:20250412T200000
DTSTAMP:20260420T095914
CREATED:20250220T130048Z
LAST-MODIFIED:20250303T111910Z
UID:8406-1744477200-1744488000@cms.joinusgruppentreffen.eu
SUMMARY:Bowling in Pfaffenhofen
DESCRIPTION:🎳 Strike Up New Friendships – Bowling & Networking Event! 🎳\nLust auf einen unterhaltsamen Abend\, bei dem du spielerisch neue Leute kennenlernen kannst? Dann sei dabei beim Bowling & Networking Event! Hier geht es nicht nur um Strikes und Spares\, sondern vor allem um Spaß\, lockere Gespräche und neue Bekanntschaften. \nWarum solltest du mitmachen?\n✔ Neue Leute treffen – Ganz entspannt ins Gespräch kommen\, während die Kugel rollt.✔ Gemeinschaft & Teamgeist – Ob im Einzelspiel oder Teammodus\, gemeinsam macht es noch mehr Spaß!✔ Kein Profi? Kein Problem! – Egal\, ob du zum ersten Mal spielst oder ein Bowling-Ass bist – jeder ist willkommen.✔ Perfekte Mischung aus Sport & Spaß – Bewegung\, Wettbewerb und lockere Atmosphäre in einem.✔ Gemütlicher Ausklang – Nach dem Spiel kannst du mit deinen neuen Bekanntschaften weiterquatschen und den Abend genießen. \nEgal\, ob du alleine kommst oder Freunde mitbringst – am Ende gehst du garantiert mit neuen Kontakten und einer Menge guter Laune nach Hause! 🎉 \nWir freuen uns auf einen spaßigen Abend mit dir! 🎳😊 \nBItte bis zum 01.04 verbindlich zusagen
URL:https://cms.joinusgruppentreffen.eu/event/bowling-in-pfaffenhofen-3/
LOCATION:Hollywood Super Bowling Pfaffenhofen\, Ledererstr. 2\, Pfaffenhofen\, 85276
ATTACH;FMTTYPE=image/jpeg:https://cms.joinusgruppentreffen.eu/wp-content/uploads/2024/09/Bowling.jpg
ORGANIZER;CN="Bettina Bergmann":MAILTO:bettina@joinusgruppentreffen.eu
END:VEVENT
BEGIN:VEVENT
DTSTART;TZID=Europe/Paris:20250413T180000
DTEND;TZID=Europe/Paris:20250413T210000
DTSTAMP:20260420T095914
CREATED:20250405T082203Z
LAST-MODIFIED:20250405T093623Z
UID:8884-1744567200-1744578000@cms.joinusgruppentreffen.eu
SUMMARY:Italiener in Pfaffenhofen
DESCRIPTION:Wer will auch den neuen Italiener ausprobieren?
URL:https://cms.joinusgruppentreffen.eu/event/italiener-in-pfaffenhofen/
LOCATION:Pizzaria La Rosa\, Münchener Str. 15\, Pfaffenhofen\, 85276
ATTACH;FMTTYPE=image/jpeg:https://cms.joinusgruppentreffen.eu/wp-content/uploads/2024/04/Italiener-scaled.jpg
ORGANIZER;CN="Bettina Bergmann":MAILTO:bettina@joinusgruppentreffen.eu
END:VEVENT
BEGIN:VEVENT
DTSTART;TZID=Europe/Paris:20250418T120000
DTEND;TZID=Europe/Paris:20250418T150000
DTSTAMP:20260420T095914
CREATED:20250323T154850Z
LAST-MODIFIED:20250416T072644Z
UID:8779-1744977600-1744988400@cms.joinusgruppentreffen.eu
SUMMARY:Fisch essen am Karfreitag in Schrobenhausen
DESCRIPTION:Einfach anmelden und dabei sein!
URL:https://cms.joinusgruppentreffen.eu/event/karfreitag-in-schrobenhausen/
LOCATION:Sportheim Flamingos for Handicap\, Sportweg 6\, Schrobenhausen\, 86529
ATTACH;FMTTYPE=image/jpeg:https://cms.joinusgruppentreffen.eu/wp-content/uploads/2025/03/20250323_114238-scaled.jpg
ORGANIZER;CN="Bettina Bergmann":MAILTO:bettina@joinusgruppentreffen.eu
END:VEVENT
BEGIN:VEVENT
DTSTART;TZID=Europe/Paris:20250420T190000
DTEND;TZID=Europe/Paris:20250420T220000
DTSTAMP:20260420T095914
CREATED:20250328T093743Z
LAST-MODIFIED:20250411T061827Z
UID:8829-1745175600-1745186400@cms.joinusgruppentreffen.eu
SUMMARY:Stammtisch in Freising
DESCRIPTION:
URL:https://cms.joinusgruppentreffen.eu/event/stammtisch-in-freising-4/
LOCATION:Oronero Weinbar\, Düwellstr. 18C\, Freising\, 85354
ATTACH;FMTTYPE=image/jpeg:https://cms.joinusgruppentreffen.eu/wp-content/uploads/2024/08/Oronero.jpg
ORGANIZER;CN="Bettina Bergmann":MAILTO:bettina@joinusgruppentreffen.eu
END:VEVENT
BEGIN:VEVENT
DTSTART;TZID=Europe/Paris:20250422T190000
DTEND;TZID=Europe/Paris:20250422T220000
DTSTAMP:20260420T095914
CREATED:20250408T103713Z
LAST-MODIFIED:20250408T103713Z
UID:8922-1745348400-1745359200@cms.joinusgruppentreffen.eu
SUMMARY:Brettspieleabend in Schrobenhausen
DESCRIPTION:Wegen Ostern ausnahmsweise am Dienstag \nSonderangebot: Currywurst mit Pommes + 0\,5 Getränk für 9€ \nNehmt gerne euer Lieblingsspiel mit 🙂
URL:https://cms.joinusgruppentreffen.eu/event/brettspieleabend-in-schrobenhausen/
LOCATION:Sportheim Flamingos for Handicap\, Sportweg 6\, Schrobenhausen\, 86529
ATTACH;FMTTYPE=image/png:https://cms.joinusgruppentreffen.eu/wp-content/uploads/2025/04/Komm-zu-unserem-Spielenachmittag-am-31.03.2025-ab-13-Uhr-Flamingos-for-Handicap-Lenbachplatz-13-86529-Schrobenhausen-1080-x-1350-px2.png
ORGANIZER;CN="Bettina Bergmann":MAILTO:bettina@joinusgruppentreffen.eu
END:VEVENT
BEGIN:VEVENT
DTSTART;TZID=Europe/Paris:20250424T170000
DTEND;TZID=Europe/Paris:20250424T200000
DTSTAMP:20260420T095914
CREATED:20250320T164240Z
LAST-MODIFIED:20250423T161626Z
UID:8764-1745514000-1745524800@cms.joinusgruppentreffen.eu
SUMMARY:Tag des Bieres in Freising
DESCRIPTION:Alleine hingehen? Wie langweilig! \nKomm schließ dich unserer Gruppe an 🙂 \n  \nDer Tag des Bieres ist der Auftakt ins Open-Air-Jahr! Auch in 2025 wird auf dem Marienplatz wieder der Geburtstag des Reinheitsgebots von 1516 gefeiert.Wie gewohnt\, wird die Hälfte des Erlöses für einen guten Zweck gespendet. In diesem Jahr ist das der “Leichte Nachrichtendienst” (LENADI) der Lebenshilfe Freising. In politisch brisanten Zeiten wie diesen ist es wichtig\, dass jeder Mensch Zugang zu verständlichen Nachrichten hat. Das Team\, bestehend aus Menschen ohne und mit Behinderung\, hat sich diesem Ziel verschrieben.Markiert den Tag schon einmal rot in eurem Kalender… \nTreffpunkt ist am Kriegerdenkmal
URL:https://cms.joinusgruppentreffen.eu/event/tag-des-bieres-in-freising/
LOCATION:Freising Marienplatz\, 85354
ATTACH;FMTTYPE=image/jpeg:https://cms.joinusgruppentreffen.eu/wp-content/uploads/2024/03/Bier-scaled.jpg
ORGANIZER;CN="Bettina Bergmann":MAILTO:bettina@joinusgruppentreffen.eu
END:VEVENT
BEGIN:VEVENT
DTSTART;TZID=Europe/Paris:20250427T120000
DTEND;TZID=Europe/Paris:20250427T150000
DTSTAMP:20260420T095914
CREATED:20250210T102833Z
LAST-MODIFIED:20250319T161200Z
UID:8330-1745755200-1745766000@cms.joinusgruppentreffen.eu
SUMMARY:Klettern an der Kletterwand in Pfaffenhofen
DESCRIPTION:🧗‍♂️ Kletter & Connect – Neue Leute kennenlernen an der Kletterwand! 🧗‍♀️\nDu möchtest sportlich aktiv sein\, Herausforderungen meistern und dabei neue Leute kennenlernen? Dann ist unser Kletter & Connect-Event genau das Richtige für dich! In einer entspannten Atmosphäre kannst du dich an der Kletterwand ausprobieren\, neue Kontakte knüpfen und gemeinsam Spaß haben. \nWarum solltest du dabei sein?\n✔ Neue Leute treffen – Klettern ist ein perfekter Icebreaker und verbindet sofort.✔ Gemeinsam wachsen – Unterstützt euch gegenseitig und stärkt das Vertrauen.✔ Keine Vorkenntnisse nötig – Egal\, ob Anfänger oder Profi\, hier zählt der Spaß!✔ Fitness & Herausforderung – Trainiere Kraft\, Koordination und Ausdauer spielerisch.✔ Teambuilding & Motivation – In der Gruppe klettert es sich gleich viel leichter! \nEgal\, ob du allein kommst oder mit Freunden – du wirst garantiert mit neuen Bekanntschaften und einem Erfolgserlebnis nach Hause gehen! 🌟 \nEintritt pro Person: 13\,50€
URL:https://cms.joinusgruppentreffen.eu/event/klettern-an-der-kletterwand-in-pfaffenhofen/
LOCATION:PAF Rock\, Ingolstädter Str. 68\, Pfaffenhofen\, 85276
ATTACH;FMTTYPE=image/jpeg:https://cms.joinusgruppentreffen.eu/wp-content/uploads/2025/02/Kletterwand.jpg
ORGANIZER;CN="Bettina Bergmann":MAILTO:bettina@joinusgruppentreffen.eu
END:VEVENT
BEGIN:VEVENT
DTSTART;TZID=Europe/Paris:20250430T180000
DTEND;TZID=Europe/Paris:20250430T210000
DTSTAMP:20260420T095914
CREATED:20250406T092651Z
LAST-MODIFIED:20250427T183722Z
UID:8893-1746036000-1746046800@cms.joinusgruppentreffen.eu
SUMMARY:Schafkopfen in Freising
DESCRIPTION:Dort trifft sich eine kleine Gruppe zum Schafkopfen\, der wir uns anschließen dürfen 🙂 \nEgal ob Anfänger oder Profi\, komm einfach dazu 🙂
URL:https://cms.joinusgruppentreffen.eu/event/schafkopfen-in-freising-3/
LOCATION:Café Übrig\, General-von-Nagel-Straße 9\, Freising\, 85354
ATTACH;FMTTYPE=image/jpeg:https://cms.joinusgruppentreffen.eu/wp-content/uploads/2025/02/Schafkopfen.jpg
ORGANIZER;CN="Bettina Bergmann":MAILTO:bettina@joinusgruppentreffen.eu
END:VEVENT
END:VCALENDAR