BEGIN:VCALENDAR
VERSION:2.0
PRODID:-//JoinUs Gruppentreffen - ECPv6.15.20//NONSGML v1.0//EN
CALSCALE:GREGORIAN
METHOD:PUBLISH
X-WR-CALNAME:JoinUs Gruppentreffen
X-ORIGINAL-URL:https://cms.joinusgruppentreffen.eu
X-WR-CALDESC:Veranstaltungen für JoinUs Gruppentreffen
REFRESH-INTERVAL;VALUE=DURATION:PT1H
X-Robots-Tag:noindex
X-PUBLISHED-TTL:PT1H
BEGIN:VTIMEZONE
TZID:Europe/Paris
BEGIN:DAYLIGHT
TZOFFSETFROM:+0100
TZOFFSETTO:+0200
TZNAME:CEST
DTSTART:20240331T010000
END:DAYLIGHT
BEGIN:STANDARD
TZOFFSETFROM:+0200
TZOFFSETTO:+0100
TZNAME:CET
DTSTART:20241027T010000
END:STANDARD
BEGIN:DAYLIGHT
TZOFFSETFROM:+0100
TZOFFSETTO:+0200
TZNAME:CEST
DTSTART:20250330T010000
END:DAYLIGHT
BEGIN:STANDARD
TZOFFSETFROM:+0200
TZOFFSETTO:+0100
TZNAME:CET
DTSTART:20251026T010000
END:STANDARD
BEGIN:DAYLIGHT
TZOFFSETFROM:+0100
TZOFFSETTO:+0200
TZNAME:CEST
DTSTART:20260329T010000
END:DAYLIGHT
BEGIN:STANDARD
TZOFFSETFROM:+0200
TZOFFSETTO:+0100
TZNAME:CET
DTSTART:20261025T010000
END:STANDARD
END:VTIMEZONE
BEGIN:VEVENT
DTSTART;TZID=Europe/Paris:20250601T140000
DTEND;TZID=Europe/Paris:20250601T170000
DTSTAMP:20260420T071334
CREATED:20250525T145816Z
LAST-MODIFIED:20250528T120420Z
UID:9243-1748786400-1748797200@cms.joinusgruppentreffen.eu
SUMMARY:Spielplatz Treffen in Pfaffenhofen
DESCRIPTION:Während die Erwachsenen gemütlich im Biergarten sitzen und sich kennenlernen können\, toben sich die Kids auf dem Spielplatz aus und finden dort auch neuen Anschluss – Eine Win-Win Situation \nGerne auch ohne Kinder kommen 🙂 \nEltern haften für ihre Kinder \nKinder dürfen nur in Begleitung eines Erziehungsberechtigten teilnehmen
URL:https://cms.joinusgruppentreffen.eu/event/spielplatz-treffen-in-pfaffenhofen-2/
LOCATION:Bürgerpark\, Weiherer Str. 16\, Pfaffenhofen\, 85276
CATEGORIES:Essen,Outdoor
ATTACH;FMTTYPE=image/jpeg:https://cms.joinusgruppentreffen.eu/wp-content/uploads/2024/04/Spielplatz-scaled.jpg
ORGANIZER;CN="Bettina Bergmann":MAILTO:bettina@joinusgruppentreffen.eu
END:VEVENT
BEGIN:VEVENT
DTSTART;TZID=Europe/Paris:20250602T180000
DTEND;TZID=Europe/Paris:20250602T210000
DTSTAMP:20260420T071334
CREATED:20250526T095658Z
LAST-MODIFIED:20250526T183625Z
UID:9251-1748887200-1748898000@cms.joinusgruppentreffen.eu
SUMMARY:Spieleabend in Schrobenhausen
DESCRIPTION:Gerne auch später dazukommen
URL:https://cms.joinusgruppentreffen.eu/event/spieleabend-in-schrobenhausen-3/
LOCATION:Café Lenbach\, Lenbachplatz 14\, Schrobenhausen\, 86529
CATEGORIES:Brettspiele,Essen
ATTACH;FMTTYPE=image/jpeg:https://cms.joinusgruppentreffen.eu/wp-content/uploads/2025/01/Spielenachmittag.jpg
ORGANIZER;CN="Bettina Bergmann":MAILTO:bettina@joinusgruppentreffen.eu
END:VEVENT
BEGIN:VEVENT
DTSTART;TZID=Europe/Paris:20250607T150000
DTEND;TZID=Europe/Paris:20250607T180000
DTSTAMP:20260420T071334
CREATED:20250526T101314Z
LAST-MODIFIED:20250606T190017Z
UID:9254-1749308400-1749319200@cms.joinusgruppentreffen.eu
SUMMARY:Treffen in Freising
DESCRIPTION:
URL:https://cms.joinusgruppentreffen.eu/event/treffen-am-weiher-in-freising/
LOCATION:Parkcafé Freising\, Am Wörh 23\, Freising\, 85354
CATEGORIES:Essen,Outdoor
ATTACH;FMTTYPE=image/jpeg:https://cms.joinusgruppentreffen.eu/wp-content/uploads/2024/10/Kaffee-trinken.jpg
ORGANIZER;CN="Bettina Bergmann":MAILTO:bettina@joinusgruppentreffen.eu
END:VEVENT
BEGIN:VEVENT
DTSTART;TZID=Europe/Paris:20250607T183000
DTEND;TZID=Europe/Paris:20250607T210000
DTSTAMP:20260420T071334
CREATED:20250601T065431Z
LAST-MODIFIED:20250603T075335Z
UID:9299-1749321000-1749330000@cms.joinusgruppentreffen.eu
SUMMARY:Steak essen in Freising
DESCRIPTION:Fahrgemeinschaften aus Schrobenhausen/Pfaffenhofen stehen zur Verfügung
URL:https://cms.joinusgruppentreffen.eu/event/asiate-in-freising/
LOCATION:Kathis Steakhouse\, Angerbadgasse\, Freising\, 85354
CATEGORIES:Essen
ATTACH;FMTTYPE=image/jpeg:https://cms.joinusgruppentreffen.eu/wp-content/uploads/2024/05/Steak-scaled.jpg
ORGANIZER;CN="Bettina Bergmann":MAILTO:bettina@joinusgruppentreffen.eu
END:VEVENT
BEGIN:VEVENT
DTSTART;TZID=Europe/Paris:20250607T210000
DTEND;TZID=Europe/Paris:20250607T230000
DTSTAMP:20260420T071334
CREATED:20250526T105731Z
LAST-MODIFIED:20250526T182948Z
UID:9258-1749330000-1749337200@cms.joinusgruppentreffen.eu
SUMMARY:Cocktailbar in Freising
DESCRIPTION:Hier lässts sich aushalten
URL:https://cms.joinusgruppentreffen.eu/event/cocktailbar-in-freising-2/
LOCATION:Maxi’s Bar Freising\, Angerbadgasse\, Freising\, 85354\, Germany
CATEGORIES:Essen
ATTACH;FMTTYPE=image/jpeg:https://cms.joinusgruppentreffen.eu/wp-content/uploads/2024/04/Cocktails-scaled.jpg
ORGANIZER;CN="Bettina Bergmann":MAILTO:bettina@joinusgruppentreffen.eu
END:VEVENT
BEGIN:VEVENT
DTSTART;TZID=Europe/Paris:20250608T100000
DTEND;TZID=Europe/Paris:20250608T130000
DTSTAMP:20260420T071334
CREATED:20250526T160229Z
LAST-MODIFIED:20250526T160454Z
UID:9274-1749376800-1749387600@cms.joinusgruppentreffen.eu
SUMMARY:Frühstück in Ingolstadt
DESCRIPTION:
URL:https://cms.joinusgruppentreffen.eu/event/fruehstueck-in-ingolstadt-4/
LOCATION:Sipl Ingolstadt Rathausplatz\, Rathausplatz 4\, Ingolstadt\, 85049
CATEGORIES:Essen
ATTACH;FMTTYPE=image/jpeg:https://cms.joinusgruppentreffen.eu/wp-content/uploads/2024/04/Fruehstueck-2-scaled.jpg
ORGANIZER;CN="Bettina Bergmann":MAILTO:bettina@joinusgruppentreffen.eu
END:VEVENT
BEGIN:VEVENT
DTSTART;TZID=Europe/Paris:20250611T180000
DTEND;TZID=Europe/Paris:20250611T210000
DTSTAMP:20260420T071334
CREATED:20250609T085513Z
LAST-MODIFIED:20250609T085606Z
UID:9415-1749664800-1749675600@cms.joinusgruppentreffen.eu
SUMMARY:Schafkopfen in Freising
DESCRIPTION:Egal ob Profi oder Anfänger\, du willst es erst lernen? Komm dazu und spiel ein paar Runden mit uns!
URL:https://cms.joinusgruppentreffen.eu/event/schafkopfen-in-freising-6/
LOCATION:Café Übrig\, General-von-Nagel-Straße 9\, Freising\, 85354
CATEGORIES:Brettspiele
ATTACH;FMTTYPE=image/jpeg:https://cms.joinusgruppentreffen.eu/wp-content/uploads/2025/02/Schafkopfen.jpg
ORGANIZER;CN="Bettina Bergmann":MAILTO:bettina@joinusgruppentreffen.eu
END:VEVENT
BEGIN:VEVENT
DTSTART;TZID=Europe/Paris:20250612T180000
DTEND;TZID=Europe/Paris:20250612T210000
DTSTAMP:20260420T071334
CREATED:20250604T201221Z
LAST-MODIFIED:20250608T150233Z
UID:9353-1749751200-1749762000@cms.joinusgruppentreffen.eu
SUMMARY:Spieleabend in Freising
DESCRIPTION:In Zusammenarbeit mit dem Café Übrig \n🎲 Lust auf einen unterhaltsamen Abend voller Strategie\, Spaß und Gesellschaft? Dann ist unser Brettspielabend in Freising genau das Richtige für dich! Ob Klassiker wie Catan\, Carcassonne oder Risiko oder moderne Geheimtipps – bei uns kommt jeder Spielbegeisterte auf seine Kosten. \n📍 Wo? Café Übrig in Freising🕕 Wann? Donnerstag\, 12.6.25💶 Eintritt: Kostenlos / kleine Spende ans Café \nWas dich erwartet: \n\n\nEine große Auswahl an Brett- und Kartenspielen für jedes Alter und jedes Level \n\n\nEntspannte Atmosphäre zum Mitspielen\, Zuschauen oder einfach neue Leute kennenlernen \n\n\nErfahrene Spielleiter:innen erklären auf Wunsch die Regeln \n\n\nSnacks und Getränke vor Ort erhältlich \n\n\nEgal ob Einsteiger oder Spieleprofi – komm vorbei\, bring Freunde mit oder finde neue Mitspieler:innen vor Ort! Der Brettspielabend in Freising ist der ideale Treffpunkt für alle\, die sich für analoge Spiele begeistern. \n🔍 Jetzt anmelden oder spontan vorbeikommen – wir freuen uns auf dich!
URL:https://cms.joinusgruppentreffen.eu/event/spieleabend-in-freising-2/
LOCATION:Café Übrig\, General-von-Nagel-Straße 9\, Freising\, 85354
CATEGORIES:Brettspiele
ATTACH;FMTTYPE=image/jpeg:https://cms.joinusgruppentreffen.eu/wp-content/uploads/2025/01/Spielenachmittag.jpg
ORGANIZER;CN="Bettina Bergmann":MAILTO:bettina@joinusgruppentreffen.eu
END:VEVENT
BEGIN:VEVENT
DTSTART;TZID=Europe/Paris:20250614T110000
DTEND;TZID=Europe/Paris:20250614T150000
DTSTAMP:20260420T071334
CREATED:20250613T083849Z
LAST-MODIFIED:20250613T085139Z
UID:9449-1749898800-1749913200@cms.joinusgruppentreffen.eu
SUMMARY:International Brunch in Freising
DESCRIPTION:
URL:https://cms.joinusgruppentreffen.eu/event/international-brunch-in-freising/
LOCATION:Café Übrig\, General-von-Nagel-Straße 9\, Freising\, 85354
CATEGORIES:Essen,Outdoor
ATTACH;FMTTYPE=image/jpeg:https://cms.joinusgruppentreffen.eu/wp-content/uploads/2025/06/International-Brunch.jpg
ORGANIZER;CN="Bettina Bergmann":MAILTO:bettina@joinusgruppentreffen.eu
END:VEVENT
BEGIN:VEVENT
DTSTART;TZID=Europe/Paris:20250615T170000
DTEND;TZID=Europe/Paris:20250615T170000
DTSTAMP:20260420T071334
CREATED:20250615T074920Z
LAST-MODIFIED:20250615T122021Z
UID:9478-1750006800-1750006800@cms.joinusgruppentreffen.eu
SUMMARY:Eis essen in Pfaffenhofen
DESCRIPTION:
URL:https://cms.joinusgruppentreffen.eu/event/eis-essen-in-pfaffenhofen-3/
LOCATION:Eiscafè da Claudio\, Hauptplatz 19\, Pfaffenhofen\, 85276
CATEGORIES:Essen,Outdoor
ATTACH;FMTTYPE=image/jpeg:https://cms.joinusgruppentreffen.eu/wp-content/uploads/2025/06/Eisbecher.jpg
ORGANIZER;CN="Bettina Bergmann":MAILTO:bettina@joinusgruppentreffen.eu
END:VEVENT
BEGIN:VEVENT
DTSTART;TZID=Europe/Paris:20250616T180000
DTEND;TZID=Europe/Paris:20250616T210000
DTSTAMP:20260420T071334
CREATED:20250602T123233Z
LAST-MODIFIED:20250602T123233Z
UID:9314-1750096800-1750107600@cms.joinusgruppentreffen.eu
SUMMARY:Spieleabend in Schrobenhausen
DESCRIPTION:
URL:https://cms.joinusgruppentreffen.eu/event/spieleabend-in-schrobenhausen-4/
LOCATION:Café Lenbach\, Lenbachplatz 14\, Schrobenhausen\, 86529
CATEGORIES:Brettspiele,Essen
ATTACH;FMTTYPE=image/jpeg:https://cms.joinusgruppentreffen.eu/wp-content/uploads/2025/01/Spielenachmittag.jpg
ORGANIZER;CN="Bettina Bergmann":MAILTO:bettina@joinusgruppentreffen.eu
END:VEVENT
BEGIN:VEVENT
DTSTART;TZID=Europe/Paris:20250617T190000
DTEND;TZID=Europe/Paris:20250617T210000
DTSTAMP:20260420T071334
CREATED:20250614T174028Z
LAST-MODIFIED:20250614T174028Z
UID:9469-1750186800-1750194000@cms.joinusgruppentreffen.eu
SUMMARY:Treffen in Freising
DESCRIPTION:Mal schauen\, was der Tag so bringt 🙂
URL:https://cms.joinusgruppentreffen.eu/event/treffen-in-freising/
LOCATION:Freising Marienplatz\, 85354
CATEGORIES:Outdoor
ATTACH;FMTTYPE=image/jpeg:https://cms.joinusgruppentreffen.eu/wp-content/uploads/2024/05/Fragezeichen-scaled.jpg
ORGANIZER;CN="Bettina Bergmann":MAILTO:bettina@joinusgruppentreffen.eu
END:VEVENT
BEGIN:VEVENT
DTSTART;TZID=Europe/Paris:20250618T180000
DTEND;TZID=Europe/Paris:20250618T210000
DTSTAMP:20260420T071334
CREATED:20250615T073622Z
LAST-MODIFIED:20250615T073622Z
UID:9475-1750269600-1750280400@cms.joinusgruppentreffen.eu
SUMMARY:Schafkopfen in Freising
DESCRIPTION:Gerne auch spontan vorbeikommen
URL:https://cms.joinusgruppentreffen.eu/event/schafkopfen-in-freising-7/
LOCATION:Café Übrig\, General-von-Nagel-Straße 9\, Freising\, 85354
CATEGORIES:Brettspiele,Kultur
ATTACH;FMTTYPE=image/jpeg:https://cms.joinusgruppentreffen.eu/wp-content/uploads/2025/02/Schafkopfen.jpg
ORGANIZER;CN="Bettina Bergmann":MAILTO:bettina@joinusgruppentreffen.eu
END:VEVENT
BEGIN:VEVENT
DTSTART;TZID=Europe/Paris:20250620T180000
DTEND;TZID=Europe/Paris:20250620T210000
DTSTAMP:20260420T071334
CREATED:20250616T071756Z
LAST-MODIFIED:20250616T071756Z
UID:9493-1750442400-1750453200@cms.joinusgruppentreffen.eu
SUMMARY:Eis essen in Pfaffenhofen
DESCRIPTION:
URL:https://cms.joinusgruppentreffen.eu/event/eis-essen-in-pfaffenhofen-4/
LOCATION:Eiscafè da Claudio\, Hauptplatz 19\, Pfaffenhofen\, 85276
CATEGORIES:Essen,Outdoor
ATTACH;FMTTYPE=image/jpeg:https://cms.joinusgruppentreffen.eu/wp-content/uploads/2025/06/Eisbecher.jpg
ORGANIZER;CN="Bettina Bergmann":MAILTO:bettina@joinusgruppentreffen.eu
END:VEVENT
BEGIN:VEVENT
DTSTART;TZID=Europe/Paris:20250621T170000
DTEND;TZID=Europe/Paris:20250621T203000
DTSTAMP:20260420T071334
CREATED:20250619T063743Z
LAST-MODIFIED:20250621T110223Z
UID:9527-1750525200-1750537800@cms.joinusgruppentreffen.eu
SUMMARY:Treffen am Weiher in Kranzberg (Allershausen)
DESCRIPTION:Fahrgemeinschaften aus Allershausen sind kein Problem \n 
URL:https://cms.joinusgruppentreffen.eu/event/treffen-am-weiher-in-kranzberg-allershausen/
LOCATION:Kranzberger Weiher\, Am Kranzberger See 1\, Kranzberg\, 85402
CATEGORIES:Essen,Outdoor
ATTACH;FMTTYPE=image/jpeg:https://cms.joinusgruppentreffen.eu/wp-content/uploads/2024/06/Pullinger-Weiher.jpeg
ORGANIZER;CN="Bettina Bergmann":MAILTO:bettina@joinusgruppentreffen.eu
END:VEVENT
BEGIN:VEVENT
DTSTART;TZID=Europe/Paris:20250625T180000
DTEND;TZID=Europe/Paris:20250625T210000
DTSTAMP:20260420T071334
CREATED:20250619T064720Z
LAST-MODIFIED:20250619T064720Z
UID:9534-1750874400-1750885200@cms.joinusgruppentreffen.eu
SUMMARY:Schafkopfen in Freising
DESCRIPTION:
URL:https://cms.joinusgruppentreffen.eu/event/schafkopfen-in-freising-8/
LOCATION:Café Übrig\, General-von-Nagel-Straße 9\, Freising\, 85354
CATEGORIES:Brettspiele,Essen,Outdoor
ATTACH;FMTTYPE=image/jpeg:https://cms.joinusgruppentreffen.eu/wp-content/uploads/2025/06/Schafkopfen.jpg
ORGANIZER;CN="Bettina Bergmann":MAILTO:bettina@joinusgruppentreffen.eu
END:VEVENT
BEGIN:VEVENT
DTSTART;TZID=Europe/Paris:20250627T170000
DTEND;TZID=Europe/Paris:20250627T220000
DTSTAMP:20260420T071334
CREATED:20250619T090241Z
LAST-MODIFIED:20250626T193308Z
UID:9539-1751043600-1751061600@cms.joinusgruppentreffen.eu
SUMMARY:Lange Nacht der Kunst und Musik in Pfaffenhofen
DESCRIPTION:Treffpunkt vorm Othello \nKunst und Musik in der gesamten Innenstadt! Mit zwei Veranstaltungstagen dürfte auch in diesem Jahr wieder Festivalstimmung in der Stadt aufkommen. Überall in der Innenstadt werden an diesen beiden Abenden an unterschiedlichsten Locations Live-Bands spielen. Auch Kunstfreunde kommen mit einer Vielfalt an Ausstellungen\, Live-Kunstaktionen und einem Kunst- und Handwerkermarkt voll auf ihre Kosten. Ein großer Kinderbereich\, ein Streetfood-Court mit Livebühne\, Straßenkünstler und viele weitere außergewöhnliche Attraktionen garantieren ein abwechslungsreiches Programm\, das Pfaffenhofen zwei Abende lang zum spektakulären kulturellen Erlebnis macht. \n 
URL:https://cms.joinusgruppentreffen.eu/event/lange-nacht-der-kunst-und-musik-in-pfaffenhofen/
LOCATION:Hauptplatz Pfaffenhofen\, Hauptplatz\, Pfaffenhofen\, 85276
CATEGORIES:Essen,Outdoor
ATTACH;FMTTYPE=image/jpeg:https://cms.joinusgruppentreffen.eu/wp-content/uploads/2024/03/Hauptplatz-Pfaffenhofen.jpg
ORGANIZER;CN="Bettina Bergmann":MAILTO:bettina@joinusgruppentreffen.eu
END:VEVENT
BEGIN:VEVENT
DTSTART;TZID=Europe/Paris:20250629T100000
DTEND;TZID=Europe/Paris:20250629T130000
DTSTAMP:20260420T071334
CREATED:20250429T120631Z
LAST-MODIFIED:20250520T181256Z
UID:9048-1751191200-1751202000@cms.joinusgruppentreffen.eu
SUMMARY:Alpakawanderung in Eckersberg bei Pfaffenhofen
DESCRIPTION:🦙 Alpakawanderung bei Pfaffenhofen – Entspannung auf vier flauschigen Beinen\nDu brauchst eine Auszeit vom Alltag und liebst Tiere? Dann komm mit zur Alpakawanderung in der Nähe von Pfaffenhofen! \nGemeinsam mit unseren freundlichen Alpakas geht es gemütlich durch die Natur. Du erfährst dabei Spannendes über diese besonderen Tiere\, genießt die frische Luft und schaltest einfach mal ab. \n🗓 Datum: 29.06.2025🕒 Uhrzeit: 10 Uhr \nPreis pro Person: 27€ \nDas erwartet Dich: \n\n\n🦙 Geführte Wanderung mit Alpakas durch die idyllische Landschaft \n\n\n🐾 Wissenswertes über Verhalten und Pflege der Tiere \n\n\n🌿 Naturgenuss und Entschleunigung pur \n\n\n📸 Zeit für Fotos\, Kuscheln und schöne Erinnerungen \n\n\nPerfekt für Familien\, Tierliebhaber:innen\, Paare oder einfach Dich allein – alle sind willkommen! \nDie Wanderung ist auch für Kinder geeignet. Bitte festes Schuhwerk tragen.👉 Jetzt Platz sichern – die Teilnehmerzahl ist begrenzt!
URL:https://cms.joinusgruppentreffen.eu/event/alpakawanderung-in-rudelzhausen/
LOCATION:Hallertau Alpakas\, Eckersberg 9\, Pfaffenhofen\, 85276
CATEGORIES:Führungen,Outdoor,Sport
ATTACH;FMTTYPE=image/jpeg:https://cms.joinusgruppentreffen.eu/wp-content/uploads/2025/04/Alpakawanderung.jpg
ORGANIZER;CN="Bettina Bergmann":MAILTO:bettina@joinusgruppentreffen.eu
END:VEVENT
BEGIN:VEVENT
DTSTART;TZID=Europe/Paris:20250629T150000
DTEND;TZID=Europe/Paris:20250630T190000
DTSTAMP:20260420T071334
CREATED:20250611T061908Z
LAST-MODIFIED:20250618T200030Z
UID:9434-1751209200-1751310000@cms.joinusgruppentreffen.eu
SUMMARY:Fischerfest der Fischerfreunde Neufahrn e.V.
DESCRIPTION:
URL:https://cms.joinusgruppentreffen.eu/event/fischerfest-der-fischerfreunde-neufahrn-e-v/
LOCATION:Volksfestplatz Neufahrn\, Kurt-Kittel-Ring\, Neufahrn bei Freising\, 85375
CATEGORIES:Kultur,Outdoor
ATTACH;FMTTYPE=image/jpeg:https://cms.joinusgruppentreffen.eu/wp-content/uploads/2025/06/Fischerfest-Neufahrn.jpeg
ORGANIZER;CN="Bettina Bergmann":MAILTO:bettina@joinusgruppentreffen.eu
END:VEVENT
BEGIN:VEVENT
DTSTART;TZID=Europe/Paris:20250630T190000
DTEND;TZID=Europe/Paris:20250630T220000
DTSTAMP:20260420T071334
CREATED:20250507T195409Z
LAST-MODIFIED:20250630T105031Z
UID:9116-1751310000-1751320800@cms.joinusgruppentreffen.eu
SUMMARY:Treffen beim Sokrates (Grieche) in Niederscheyern
DESCRIPTION:Aufgrund des Wetters haben wir das Darten verschoben\, im Sokrates ist es schön klimatisiert
URL:https://cms.joinusgruppentreffen.eu/event/schnuppertraining-beim-darten-in-pfaffenhofen/
LOCATION:Sokrates Niederscheyern\, Niederscheyerer Str. 94\, Pfaffenhofen\, 85276
CATEGORIES:Sport
ATTACH;FMTTYPE=image/jpeg:https://cms.joinusgruppentreffen.eu/wp-content/uploads/2024/08/Grieche-Niederscheyern.jpg
ORGANIZER;CN="Bettina Bergmann":MAILTO:bettina@joinusgruppentreffen.eu
END:VEVENT
END:VCALENDAR