BEGIN:VCALENDAR
VERSION:2.0
PRODID:-//JoinUs Gruppentreffen - ECPv6.15.20//NONSGML v1.0//EN
CALSCALE:GREGORIAN
METHOD:PUBLISH
X-ORIGINAL-URL:https://cms.joinusgruppentreffen.eu
X-WR-CALDESC:Veranstaltungen für JoinUs Gruppentreffen
REFRESH-INTERVAL;VALUE=DURATION:PT1H
X-Robots-Tag:noindex
X-PUBLISHED-TTL:PT1H
BEGIN:VTIMEZONE
TZID:Europe/Paris
BEGIN:DAYLIGHT
TZOFFSETFROM:+0100
TZOFFSETTO:+0200
TZNAME:CEST
DTSTART:20240331T010000
END:DAYLIGHT
BEGIN:STANDARD
TZOFFSETFROM:+0200
TZOFFSETTO:+0100
TZNAME:CET
DTSTART:20241027T010000
END:STANDARD
BEGIN:DAYLIGHT
TZOFFSETFROM:+0100
TZOFFSETTO:+0200
TZNAME:CEST
DTSTART:20250330T010000
END:DAYLIGHT
BEGIN:STANDARD
TZOFFSETFROM:+0200
TZOFFSETTO:+0100
TZNAME:CET
DTSTART:20251026T010000
END:STANDARD
BEGIN:DAYLIGHT
TZOFFSETFROM:+0100
TZOFFSETTO:+0200
TZNAME:CEST
DTSTART:20260329T010000
END:DAYLIGHT
BEGIN:STANDARD
TZOFFSETFROM:+0200
TZOFFSETTO:+0100
TZNAME:CET
DTSTART:20261025T010000
END:STANDARD
END:VTIMEZONE
BEGIN:VEVENT
DTSTART;TZID=Europe/Paris:20250903T180000
DTEND;TZID=Europe/Paris:20250903T210000
DTSTAMP:20260420T033926
CREATED:20250831T145716Z
LAST-MODIFIED:20250831T145716Z
UID:10000-1756922400-1756933200@cms.joinusgruppentreffen.eu
SUMMARY:Schafkopfen in Freising
DESCRIPTION:
URL:https://cms.joinusgruppentreffen.eu/event/schafkopfen-in-freising-15/
LOCATION:Café Übrig\, General-von-Nagel-Straße 9\, Freising\, 85354
CATEGORIES:Kartenspiele
ATTACH;FMTTYPE=image/jpeg:https://cms.joinusgruppentreffen.eu/wp-content/uploads/2025/08/Schafkopfen-Uebrig.jpg
ORGANIZER;CN="Bettina Bergmann":MAILTO:bettina@joinusgruppentreffen.eu
END:VEVENT
BEGIN:VEVENT
DTSTART;TZID=Europe/Paris:20250907T160000
DTEND;TZID=Europe/Paris:20250907T200000
DTSTAMP:20260420T033926
CREATED:20250729T184850Z
LAST-MODIFIED:20250904T142716Z
UID:9673-1757260800-1757275200@cms.joinusgruppentreffen.eu
SUMMARY:Sommerfest von JoinUs 2025 in Reichertshofen
DESCRIPTION:Nach dem erfolgreichen Sommerfest des letzten Jahres\, müssen wir dieses Jahr wieder eines machen\, aber dieses Mal größer. \nBadesee mit Liegewiese\, Spielplatz\, Volleyballfeld\, sowie eigenem Grillbereich und Toiletten. \nIch nehme alles mit 🙂 (Grill\, Grillgut (vegan und mit Fleisch)\, Getränke\, Sitzmöglichkeiten\,…) \nMit Live-Auftritt der Countryband Grit&Glory \nWer trotzdem gerne einen Salat oder ein Dessert machen möchte\, kann sich gerne bei mir melden. \nGeschirr aus logistischen Gründen bitte selbst mitnehmen \nKeine Angst vor schlechtem Wetter – es wird ein Pavillon aufgestellt \nWir haben auch einige Outdoorspiele besorgt (Federball\, Volleyball\, Sprungspiel) damit euch nicht langweilig wird. \nAber es gibt auch Brett- und Kartenspiele vor Ort! \nUnkostenpauschale pro Person 25€ \nOptional – nur Getränke 10€ \ngerne Kinder mitnehmen 🙂 \nFahrgemeinschaften aus Freising/Schrobenhausen/Pfaffenhofen/Ingolstadt sind möglich
URL:https://cms.joinusgruppentreffen.eu/event/sommerfest-in-reichertshofen/
LOCATION:Heideweiher\, Am Heideweiher\, Reichertshofen\, 85084
CATEGORIES:Essen,Highlights,Outdoor,Party's
ATTACH;FMTTYPE=image/jpeg:https://cms.joinusgruppentreffen.eu/wp-content/uploads/2025/07/Heideweiher.jpg
ORGANIZER;CN="Bettina Bergmann":MAILTO:bettina@joinusgruppentreffen.eu
END:VEVENT
BEGIN:VEVENT
DTSTART;TZID=Europe/Paris:20250913T103000
DTEND;TZID=Europe/Paris:20250913T170000
DTSTAMP:20260420T033926
CREATED:20250801T064421Z
LAST-MODIFIED:20250801T064421Z
UID:9718-1757759400-1757782800@cms.joinusgruppentreffen.eu
SUMMARY:Schafkopfturnier in Freising
DESCRIPTION:1. Preis: 700€\n2. Preis: 300€\n3. Preis: 100€\nsowie Spezialwertung Nachwuchs U30 und Beste Dame! (Preiswert ca. 50-100€) \nAnmeldung ab 10:00 Uhr\nFür schöne Sach- und Verzehrpreisen wird gesorgt.\nzahlreiche Sach- und Verzehrpreise\nBitte Parkmöglichkeiten beachten: \nSaturn Elektrofachhandel:\n350m (5 min Gehzeit) \nSchützenheim Freising (FSG Freising):\n550m (7 min Gehzeit) \nAgentur für Arbeit Freising:\n400m (5 min Gehzeit) \nnotfalls P+R am Bahnhof:\n1000m (15 min Gehzeit)\n015739678208\nlanges Blatt\, mit Solo\, Wenz und Farbwenz Plus Minus Punkte
URL:https://cms.joinusgruppentreffen.eu/event/schafkopfturnier-in-freising/
LOCATION:Volksfestplatz Freising\, Luitpoldstr. 1\, Freising\, 85356\, Deutschland
CATEGORIES:Essen,Kartenspiele
ATTACH;FMTTYPE=image/jpeg:https://cms.joinusgruppentreffen.eu/wp-content/uploads/2025/08/Schafkopfen-Uebrig.jpg
ORGANIZER;CN="Bettina Bergmann":MAILTO:bettina@joinusgruppentreffen.eu
END:VEVENT
BEGIN:VEVENT
DTSTART;TZID=Europe/Paris:20250913T140000
DTEND;TZID=Europe/Paris:20250913T170000
DTSTAMP:20260420T033926
CREATED:20250908T165503Z
LAST-MODIFIED:20250909T105227Z
UID:10050-1757772000-1757782800@cms.joinusgruppentreffen.eu
SUMMARY:Volksfest in Freising
DESCRIPTION:Treffpunkt im Zelt vor der Bühne
URL:https://cms.joinusgruppentreffen.eu/event/volksfest-in-freising/
LOCATION:Volksfestplatz Freising\, Luitpoldstr. 1\, Freising\, 85356\, Deutschland
CATEGORIES:Essen,Party's
ATTACH;FMTTYPE=image/jpeg:https://cms.joinusgruppentreffen.eu/wp-content/uploads/2024/08/Volksfest-Freising.jpg
ORGANIZER;CN="Bettina Bergmann":MAILTO:bettina@joinusgruppentreffen.eu
END:VEVENT
BEGIN:VEVENT
DTSTART;TZID=Europe/Paris:20250914T170000
DTEND;TZID=Europe/Paris:20250914T200000
DTSTAMP:20260420T033926
CREATED:20250807T100434Z
LAST-MODIFIED:20250908T165552Z
UID:9791-1757869200-1757880000@cms.joinusgruppentreffen.eu
SUMMARY:Volksfest in Pfaffenhofen
DESCRIPTION:Treffpunkt beim Autoscooter
URL:https://cms.joinusgruppentreffen.eu/event/volksfest-in-pfaffenhofen-2/
LOCATION:Volksfestplatz Pfaffenhofen\, Türltorstr.\, Paffenhofen\, 85276
CATEGORIES:Essen,Party's
ATTACH;FMTTYPE=image/jpeg:https://cms.joinusgruppentreffen.eu/wp-content/uploads/2024/05/Volksfest-1.jpg
ORGANIZER;CN="Bettina Bergmann":MAILTO:bettina@joinusgruppentreffen.eu
END:VEVENT
BEGIN:VEVENT
DTSTART;TZID=Europe/Paris:20250919T190000
DTEND;TZID=Europe/Paris:20250919T230000
DTSTAMP:20260420T033926
CREATED:20250913T143059Z
LAST-MODIFIED:20250917T154622Z
UID:10075-1758308400-1758322800@cms.joinusgruppentreffen.eu
SUMMARY:Schafkopfen in Reichertshausen
DESCRIPTION:
URL:https://cms.joinusgruppentreffen.eu/event/schafkopfen-in-reichertshausen/
LOCATION:Gasthof Fuchs Reichertshausen\, Pfaffenhofener Str. 8\, Reichertshausen\, 85293\, Germany
CATEGORIES:Kartenspiele
ATTACH;FMTTYPE=image/jpeg:https://cms.joinusgruppentreffen.eu/wp-content/uploads/2025/08/Schafkopfen-Uebrig.jpg
ORGANIZER;CN="Bettina Bergmann":MAILTO:bettina@joinusgruppentreffen.eu
END:VEVENT
BEGIN:VEVENT
DTSTART;TZID=Europe/Paris:20250920T150000
DTEND;TZID=Europe/Paris:20250920T210000
DTSTAMP:20260420T033926
CREATED:20250908T092143Z
LAST-MODIFIED:20250909T103827Z
UID:10038-1758380400-1758402000@cms.joinusgruppentreffen.eu
SUMMARY:Sommerfest vom Café Übrig in Freising
DESCRIPTION:Wie der Name schon sagt\, werden im Café Übrig “übrig” gebliebene Lebensmittel aus Supermärkten verwertet. Daraus wird dann ein leckeres Gericht gezaubert und kostenlos angeboten. \nDas Café übrig gibt es nun seit 2 Jahren im Herzen von Freising. \nKommt feiert mit – es gibt Live Auftritte von verschiedenen Bands\, unter anderem die Band\, die beim Sommerfest von JoinUs gespielt hat.
URL:https://cms.joinusgruppentreffen.eu/event/sommerfest-vom-cafe-uebrig-in-freising/
LOCATION:Café Übrig\, General-von-Nagel-Straße 9\, Freising\, 85354
CATEGORIES:Essen,Outdoor,Party's
ATTACH;FMTTYPE=image/jpeg:https://cms.joinusgruppentreffen.eu/wp-content/uploads/2024/06/Sommerfest.jpg
ORGANIZER;CN="Bettina Bergmann":MAILTO:bettina@joinusgruppentreffen.eu
END:VEVENT
BEGIN:VEVENT
DTSTART;TZID=Europe/Paris:20250921T110000
DTEND;TZID=Europe/Paris:20250921T140000
DTSTAMP:20260420T033926
CREATED:20250908T173547Z
LAST-MODIFIED:20250909T104052Z
UID:10054-1758452400-1758463200@cms.joinusgruppentreffen.eu
SUMMARY:Frühstück in Freising
DESCRIPTION:
URL:https://cms.joinusgruppentreffen.eu/event/fruehstueck-in-freising-11/
LOCATION:Goldmarie\, Am Wörth 1\, Freising\, 85354
CATEGORIES:Essen
ATTACH;FMTTYPE=image/jpeg:https://cms.joinusgruppentreffen.eu/wp-content/uploads/2025/06/veganes-Fruehstueck.jpg
ORGANIZER;CN="Bettina Bergmann":MAILTO:bettina@joinusgruppentreffen.eu
END:VEVENT
END:VCALENDAR