BEGIN:VCALENDAR
VERSION:2.0
PRODID:-//JoinUs Gruppentreffen - ECPv6.15.20//NONSGML v1.0//EN
CALSCALE:GREGORIAN
METHOD:PUBLISH
X-ORIGINAL-URL:https://cms.joinusgruppentreffen.eu
X-WR-CALDESC:Veranstaltungen für JoinUs Gruppentreffen
REFRESH-INTERVAL;VALUE=DURATION:PT1H
X-Robots-Tag:noindex
X-PUBLISHED-TTL:PT1H
BEGIN:VTIMEZONE
TZID:Europe/Paris
BEGIN:DAYLIGHT
TZOFFSETFROM:+0100
TZOFFSETTO:+0200
TZNAME:CEST
DTSTART:20240331T010000
END:DAYLIGHT
BEGIN:STANDARD
TZOFFSETFROM:+0200
TZOFFSETTO:+0100
TZNAME:CET
DTSTART:20241027T010000
END:STANDARD
BEGIN:DAYLIGHT
TZOFFSETFROM:+0100
TZOFFSETTO:+0200
TZNAME:CEST
DTSTART:20250330T010000
END:DAYLIGHT
BEGIN:STANDARD
TZOFFSETFROM:+0200
TZOFFSETTO:+0100
TZNAME:CET
DTSTART:20251026T010000
END:STANDARD
BEGIN:DAYLIGHT
TZOFFSETFROM:+0100
TZOFFSETTO:+0200
TZNAME:CEST
DTSTART:20260329T010000
END:DAYLIGHT
BEGIN:STANDARD
TZOFFSETFROM:+0200
TZOFFSETTO:+0100
TZNAME:CET
DTSTART:20261025T010000
END:STANDARD
BEGIN:DAYLIGHT
TZOFFSETFROM:+0100
TZOFFSETTO:+0200
TZNAME:CEST
DTSTART:20270328T010000
END:DAYLIGHT
BEGIN:STANDARD
TZOFFSETFROM:+0200
TZOFFSETTO:+0100
TZNAME:CET
DTSTART:20271031T010000
END:STANDARD
END:VTIMEZONE
BEGIN:VEVENT
DTSTART;TZID=Europe/Paris:20251231T200000
DTEND;TZID=Europe/Paris:20260101T020000
DTSTAMP:20260419T222411
CREATED:20251213T123258Z
LAST-MODIFIED:20251229T200623Z
UID:10415-1767211200-1767232800@cms.joinusgruppentreffen.eu
SUMMARY:Silvester mit JoinUs in Pfaffenhofen
DESCRIPTION:Du hast an Silvester noch nichts vor und möchtest im kleinen Kreis mit uns feiern?\nDann komm\, schließ dich uns an! \nDich erwartet:\n– Chili con/sin Carne so viel du essen kannst\n– Alkoholische Getränke und antialkoholische\, so viel du trinken kannst\n– Um Mitternacht sehen wir uns das Feuerwerk am Volksfestplatz an  \nFür eine Unkostenpauschale von 20€
URL:https://cms.joinusgruppentreffen.eu/event/silvester-mit-joinus-in-pfaffenhofen/
LOCATION:Mehrgenerationenhaus Pfaffenhofen\, Ambergerweg 3\, Pfaffenhofen\, 85276
CATEGORIES:Party's
ATTACH;FMTTYPE=image/jpeg:https://cms.joinusgruppentreffen.eu/wp-content/uploads/2024/12/Silvester.jpg
ORGANIZER;CN="Bettina Bergmann":MAILTO:bettina@joinusgruppentreffen.eu
END:VEVENT
BEGIN:VEVENT
DTSTART;TZID=Europe/Paris:20260117T180000
DTEND;TZID=Europe/Paris:20260117T183000
DTSTAMP:20260419T222411
CREATED:20251230T124336Z
LAST-MODIFIED:20251230T154743Z
UID:10484-1768672800-1768674600@cms.joinusgruppentreffen.eu
SUMMARY:Bowling in Pfaffenhofen
DESCRIPTION:bitte bis spätestens 10.1 anmelden.\nMindestteilnehmerzahl: 6 Personen\nim Anschluss können wir gerne noch zum Mexikaner im Haus gehen.
URL:https://cms.joinusgruppentreffen.eu/event/bowling-in-pfaffenhofen-5/
LOCATION:Hollywood Super Bowling Pfaffenhofen\, Ledererstr. 2\, Pfaffenhofen\, 85276
CATEGORIES:Essen,Sport
ATTACH;FMTTYPE=image/jpeg:https://cms.joinusgruppentreffen.eu/wp-content/uploads/2024/09/Bowling.jpg
ORGANIZER;CN="Bettina Bergmann":MAILTO:bettina@joinusgruppentreffen.eu
END:VEVENT
BEGIN:VEVENT
DTSTART;TZID=Europe/Paris:20260118T130000
DTEND;TZID=Europe/Paris:20260118T160000
DTSTAMP:20260419T222411
CREATED:20251228T132436Z
LAST-MODIFIED:20260107T161650Z
UID:10473-1768741200-1768752000@cms.joinusgruppentreffen.eu
SUMMARY:Leichte Wanderung durch den Weltwald bei Freising mit Katrin
DESCRIPTION:Treffpunkt:\nhttps://maps.app.goo.gl/kWpeUMGBSqruqm2D7?g_st=aw \nIm Anschluss gehen wir noch in die Pizzaria Concetta für eine kleine Stärkung (optional)
URL:https://cms.joinusgruppentreffen.eu/event/leichte-wanderung-durch-den-weltwald-in-freising/
LOCATION:Weltwald Freising\, St2084\, Kranzberg\, 85402
CATEGORIES:Sport
ATTACH;FMTTYPE=image/jpeg:https://cms.joinusgruppentreffen.eu/wp-content/uploads/2024/02/Wanderung-Scheyern-2-1.jpg
ORGANIZER;CN="Bettina Bergmann":MAILTO:bettina@joinusgruppentreffen.eu
END:VEVENT
BEGIN:VEVENT
DTSTART;TZID=Europe/Paris:20260121T180000
DTEND;TZID=Europe/Paris:20260121T220000
DTSTAMP:20260419T222411
CREATED:20260118T104134Z
LAST-MODIFIED:20260118T104134Z
UID:10560-1769018400-1769032800@cms.joinusgruppentreffen.eu
SUMMARY:Schafkopfen in Wolnzach
DESCRIPTION:Anfänger sind herzlich willkommen 🙂\nHier wird ohne Geld gespielt
URL:https://cms.joinusgruppentreffen.eu/event/schafkopfen-in-wolnzach-2/
LOCATION:Zur Post Wolnzach\, Marktplatz 5\, Wolnzach\, 85283
CATEGORIES:Essen,Kartenspiele
ATTACH;FMTTYPE=image/jpeg:https://cms.joinusgruppentreffen.eu/wp-content/uploads/2025/02/Schafkopfen.jpg
ORGANIZER;CN="Bettina Bergmann":MAILTO:bettina@joinusgruppentreffen.eu
END:VEVENT
BEGIN:VEVENT
DTSTART;TZID=Europe/Paris:20260124T140000
DTEND;TZID=Europe/Paris:20260124T190000
DTSTAMP:20260419T222411
CREATED:20251222T094403Z
LAST-MODIFIED:20260121T205641Z
UID:10439-1769263200-1769281200@cms.joinusgruppentreffen.eu
SUMMARY:Winterfest vom Cafè Übrig in Freising
DESCRIPTION:Bitte warm anziehen\, das Fest ist teilweise draußen
URL:https://cms.joinusgruppentreffen.eu/event/winterfest-vom-cafe-uebrig-in-freising/
LOCATION:Café Übrig\, General-von-Nagel-Straße 9\, Freising\, 85354
CATEGORIES:Brettspiele,Essen,Party's
ATTACH;FMTTYPE=image/jpeg:https://cms.joinusgruppentreffen.eu/wp-content/uploads/2024/08/Cafe-Uebrig.jpg
ORGANIZER;CN="Bettina Bergmann":MAILTO:bettina@joinusgruppentreffen.eu
END:VEVENT
BEGIN:VEVENT
DTSTART;TZID=Europe/Paris:20260128T190000
DTEND;TZID=Europe/Paris:20260128T220000
DTSTAMP:20260419T222411
CREATED:20260126T105956Z
LAST-MODIFIED:20260126T105956Z
UID:10587-1769626800-1769637600@cms.joinusgruppentreffen.eu
SUMMARY:Schafkopfen in Schernbuch
DESCRIPTION:Anfänger sind herzlich willkommen
URL:https://cms.joinusgruppentreffen.eu/event/schafkopfen-in-schernbuch/
LOCATION:Kurbi’s Pilsstubn\, Dorfstr. 18\, Paunzhausen\, 85307
CATEGORIES:Kartenspiele
ATTACH;FMTTYPE=image/jpeg:https://cms.joinusgruppentreffen.eu/wp-content/uploads/2025/02/Schafkopfen.jpg
ORGANIZER;CN="Bettina Bergmann":MAILTO:bettina@joinusgruppentreffen.eu
END:VEVENT
BEGIN:VEVENT
DTSTART;TZID=Europe/Paris:20260131T080000
DTEND;TZID=Europe/Paris:20260131T170000
DTSTAMP:20260419T222411
CREATED:20260128T182756Z
LAST-MODIFIED:20260128T182756Z
UID:10612-1769846400-1769878800@cms.joinusgruppentreffen.eu
SUMMARY:Testveranstaltung
DESCRIPTION:testtext
URL:https://cms.joinusgruppentreffen.eu/event/testveranstaltung/
LOCATION:Abensberg
ATTACH;FMTTYPE=image/jpeg:https://cms.joinusgruppentreffen.eu/wp-content/uploads/2025/08/Schafkopfen-Uebrig.jpg
END:VEVENT
END:VCALENDAR